Workbook

Sheet 促進計画（貸し手）
A1: 様式第3号 | E1: 中間管理権設定関係【貸し手（地権者）→群馬県農業公社】 | AE1: 整理番号
A2: １．各筆明細
A3: 借り手 権利の設定を受ける者(Ａ) | E3: 氏名又は名称 | H3: 公益財団法人 群馬県農業公社 理事長 横室 光良 | P3: 住所 | R3: 〒371-0852 | X3: 電話番号 | Z3: 027-251-1220 | AE3: 同意欄 ※自署又は押印
R4: 前橋市総社町総社2326-2
A5: 貸し手 権利を設定する者(Ｂ) | E5: 氏名又は名称 | P5: 住所 | R5: 〒 | X5: 電話番号 | AE5: 同意欄 ※自署又は押印
A8: 権利対象の土地（Ｃ） | J8: （Ａ）に設定する権利の内容（Ｄ） | M8: （Ａ）から転貸される権利の内容（Ｅ） | P8: （Ｄ）及び（Ｅ）の共通事項（Ｆ） | AB8: 借賃の 支払の 相手方 (G) | AD8: 借賃の支払 方法（H） いずれかに〇 | AG8: 備考
A9: 所在 | G9: 現況 地目 | H9: 面積 （㎡） | J9: 中間管理権を 設定する者 | M9: 転貸を 受ける者 | P9: 始期 | R9: 存続期間（終期） いずれかに〇 | T9: 権利の種類 | V9: 利用内容 | X9: 借賃
A10: 大字 | C10: 字 | E10: 地番 | R10: 5年 R13.5.31 | S10: 10年 R18.5.31 | T10: いずれかに〇 | X10: （円） | Z10: いずれかに〇 | AD10: 口座 12月 | AF10: 物納
T11: 使用 貸借 | U11: 賃貸借 | Z11: 1筆 | AA11: 10a
T12: 使用 貸借 | U12: 賃貸借 | Z12: 1筆 | AA12: 10a
T13: 使用 貸借 | U13: 賃貸借 | Z13: 1筆 | AA13: 10a
T14: 使用 貸借 | U14: 賃貸借 | Z14: 1筆 | AA14: 10a
T15: 使用 貸借 | U15: 賃貸借 | Z15: 1筆 | AA15: 10a
T16: 使用 貸借 | U16: 賃貸借 | Z16: 1筆 | AA16: 10a
T17: 使用 貸借 | U17: 賃貸借 | Z17: 1筆 | AA17: 10a
A19: 中間管理権を設定する土地における（Ｂ）以外の権原者
A20: 住所 | G20: 氏名又は名称 | K20: 権限の種類 | M20: 同意欄 | O20: 備考
B64: 別表１ 修繕費及び改良費の負担に係る特約事項 | S64: 別表２
B65: 改良費又は 改良工事 | D65: 機構及び農地耕作者並びに 土地所有者の費用に関する 支払い区分の内容 | I65: 機構及び農地耕作者の 支払額について土地所有者が 償還すべき額及び方法 | N65: 備考 | S65: 賦課金等の種類 | X65: 負担区分の内容 | AE65: 備考
B72: 【別紙】
B74: =+IFERROR(IF(VLOOKUP(#REF!,[1]ワークシート!$A$2:$CI$1002,22,0)="","",VLOOKUP(#REF!,[1]ワークシート!$A$2:$CI$1002,22,0)),"") | K74: =+IFERROR(IF(VLOOKUP(#REF!,[1]ワークシート!$A$2:$CI$1002,24,0)="","",VLOOKUP(#REF!,[1]ワークシート!$A$2:$CI$1002,24,0)),"")
A76: 権利対象の土地（Ｃ） | J76: （Ａ）に設定する権利の内容（Ｄ） | M76: （Ａ）から転貸される権利の内容（Ｅ） | P76: （Ｄ）及び（Ｅ）の共通事項（Ｆ） | AB76: 借賃の支払の相手方 (G) | AE76: 借賃の 支払方法 （H） | AG76: 備考
A77: 所在 | G77: 現況 地目 | H77: 面積 （㎡） | J77: 中間管理権を 設定する者 | M77: 転貸を 受ける者 | P77: 始期 | R77: 存続期間 （終期） | T77: 権利の 種類 | V77: 利用内容 | X77: 借賃 （円）
A78: 大字 | C78: 字 | E78: 地番
A79: =+IFERROR(IF(VLOOKUP(#REF!&"-"&ROW()-92,[1]ワークシート!$C$2:$CI$1002,9,0)="","",VLOOKUP(#REF!&"-"&ROW()-92,[1]ワークシート!$C$2:$CI$1002,9,0)),"") | C79: =+IFERROR(IF(VLOOKUP(#REF!&"-"&ROW()-92,[1]ワークシート!$C$2:$CI$1002,10,0) = "","",VLOOKUP(#REF!&"-"&ROW()-92,[1]ワークシート!$C$2:$CI$1002,10,0)),"") | E79: =+IFERROR(IF(VLOOKUP(#REF!&"-"&ROW()-92,[1]ワークシート!$C$2:$CI$1002,11,0)="","",VLOOKUP(#REF!&"-"&ROW()-92,[1]ワークシート!$C$2:$CI$1002,11,0)),"") | G79: =+IFERROR(IF(VLOOKUP(#REF!&"-"&ROW()-92,[1]ワークシート!$C$2:$CI$1002,12,0)="","",VLOOKUP(#REF!&"-"&ROW()-92,[1]ワークシート!$C$2:$CI$1002,12,0)),"") | H79: =IFERROR(IF(VLOOKUP(#REF!&"-"&ROW()-92,[1]ワークシート!$C$2:$CI$1002,15,0)="","",IF(VLOOKUP(#REF!&"-"&ROW()-92,[1]ワークシート!$C$2:$CI$1002,15,0)= VLOOKUP(#REF!&"-"&ROW()-92,[1]ワークシート!$C$2:$CI$1002,14,0),VLOOKUP(#REF!&"-"&ROW()-92,[1]ワークシート!$C$2:$CI$1002,15,0),VLOOKUP(#REF!&"-"&ROW()-92, [1]ワークシート!$C$2:$CI$1002,14,0) & "㎡の 内" & VLOOKUP(#REF!&"-"&ROW()-92,[1]ワークシート!$C$2:$CI$1002,15,0)&"㎡")),"") | J79: =+IFERROR(IF(VLOOKUP(#REF!&"-"&ROW()-92,[1]ワークシート!$C$2:$CI$1002,20,0)="","",VLOOKUP(#REF!&"-"&ROW()-92,[1]ワークシート!$C$2:$CI$1002,20,0)),"") | M79: =+IFERROR(IF(VLOOKUP(#REF!&"-"&ROW()-92,[1]ワークシート!$C$2:$CI$1002,61,0)="","",VLOOKUP(#REF!&"-"&ROW()-92,[1]ワークシート!$C$2:$CI$1002,61,0)),"") | P79: =+IFERROR(VLOOKUP(#REF!&"-"&ROW()-92,[1]ワークシート!$C$2:$CI$1002,26,0),"") | R79: =+IFERROR(VLOOKUP(#REF!&"-"&ROW()-92,[1]ワークシート!$C$2:$CI$1002,27,0),"") | T79: =IFERROR(IF(VLOOKUP(#REF!&"-"&ROW()-92,[1]ワークシート!$C$2:$CI$1002,31,0)="",IF(X79="","",IF(X79=0,"使用貸借権","賃借権")),"賃借権"),"") | V79: =+IFERROR(IF(VLOOKUP(#REF!&"-"&ROW()-92,[1]ワークシート!$C$2:$CI$1002,13,0)="","",VLOOKUP(#REF!&"-"&ROW()-92,[1]ワークシート!$C$2:$CI$1002,13,0)),"") | X79: =+IFERROR(IF(VLOOKUP(#REF!&"-"&ROW()-92,[1]ワークシート!$C$2:$CI$1002,31,0)="",VLOOKUP(#REF!&"-"&ROW()-92,[1]ワークシート!$C$2:$CI$1002,33,0),IF(VLOOKUP(#REF!&"-"&ROW()-92,[1]ワークシート!$C$2:$CI$1002,31,0)="物納（米）",VLOOKUP(#REF!&"-"&ROW()-92,[1]ワークシート!$C$2:$CI$1002,35,0)&"kg",IF(VLOOKUP(#REF!&"-"&ROW()-92,[1]ワークシート!$C$2:$CI$1002,31,0)="物納（現金）",VLOOKUP(#REF!&"-"&ROW()-92,[1]ワークシート!$C$2:$CI$1002,36,0)&"円",""))),"") | AB79: =IF(T79="使用貸借権","-",+IFERROR(VLOOKUP(#REF!&"-"&ROW()-92,[1]ワークシート!$C$2:$CI$1002,34,0)&"","")) | AE79: =IF(T79="","",IF(VLOOKUP(#REF!&"-"&ROW()-92,[1]ワークシート!$C$2:$CI$1002,31,0)="",IF(T79="使用貸借権","-","口座振込 １２月"),"物納")) | AG79: =IFERROR(IF(VLOOKUP(#REF!&"-"&ROW()-92,[1]ワークシート!$C$2:$CI$1002,37,0)="","",VLOOKUP(#REF!&"-"&ROW()-92,[1]ワークシート!$C$2:$CI$1002,37,0)),"")
A80: =+IFERROR(IF(VLOOKUP(#REF!&"-"&ROW()-92,[1]ワークシート!$C$2:$CI$1002,9,0)="","",VLOOKUP(#REF!&"-"&ROW()-92,[1]ワークシート!$C$2:$CI$1002,9,0)),"") | C80: =+IFERROR(IF(VLOOKUP(#REF!&"-"&ROW()-92,[1]ワークシート!$C$2:$CI$1002,10,0) = "","",VLOOKUP(#REF!&"-"&ROW()-92,[1]ワークシート!$C$2:$CI$1002,10,0)),"") | E80: =+IFERROR(IF(VLOOKUP(#REF!&"-"&ROW()-92,[1]ワークシート!$C$2:$CI$1002,11,0)="","",VLOOKUP(#REF!&"-"&ROW()-92,[1]ワークシート!$C$2:$CI$1002,11,0)),"") | G80: =+IFERROR(IF(VLOOKUP(#REF!&"-"&ROW()-92,[1]ワークシート!$C$2:$CI$1002,12,0)="","",VLOOKUP(#REF!&"-"&ROW()-92,[1]ワークシート!$C$2:$CI$1002,12,0)),"") | H80: =IFERROR(IF(VLOOKUP(#REF!&"-"&ROW()-92,[1]ワークシート!$C$2:$CI$1002,15,0)="","",IF(VLOOKUP(#REF!&"-"&ROW()-92,[1]ワークシート!$C$2:$CI$1002,15,0)= VLOOKUP(#REF!&"-"&ROW()-92,[1]ワークシート!$C$2:$CI$1002,14,0),VLOOKUP(#REF!&"-"&ROW()-92,[1]ワークシート!$C$2:$CI$1002,15,0),VLOOKUP(#REF!&"-"&ROW()-92, [1]ワークシート!$C$2:$CI$1002,14,0) & "㎡の 内" & VLOOKUP(#REF!&"-"&ROW()-92,[1]ワークシート!$C$2:$CI$1002,15,0)&"㎡")),"") | J80: =+IFERROR(IF(VLOOKUP(#REF!&"-"&ROW()-92,[1]ワークシート!$C$2:$CI$1002,20,0)="","",VLOOKUP(#REF!&"-"&ROW()-92,[1]ワークシート!$C$2:$CI$1002,20,0)),"") | M80: =+IFERROR(IF(VLOOKUP(#REF!&"-"&ROW()-92,[1]ワークシート!$C$2:$CI$1002,61,0)="","",VLOOKUP(#REF!&"-"&ROW()-92,[1]ワークシート!$C$2:$CI$1002,61,0)),"") | P80: =+IFERROR(VLOOKUP(#REF!&"-"&ROW()-92,[1]ワークシート!$C$2:$CI$1002,26,0),"") | R80: =+IFERROR(VLOOKUP(#REF!&"-"&ROW()-92,[1]ワークシート!$C$2:$CI$1002,27,0),"") | T80: =IFERROR(IF(VLOOKUP(#REF!&"-"&ROW()-92,[1]ワークシート!$C$2:$CI$1002,31,0)="",IF(X80="","",IF(X80=0,"使用貸借権","賃借権")),"賃借権"),"") | V80: =+IFERROR(IF(VLOOKUP(#REF!&"-"&ROW()-92,[1]ワークシート!$C$2:$CI$1002,13,0)="","",VLOOKUP(#REF!&"-"&ROW()-92,[1]ワークシート!$C$2:$CI$1002,13,0)),"") | X80: =+IFERROR(IF(VLOOKUP(#REF!&"-"&ROW()-92,[1]ワークシート!$C$2:$CI$1002,31,0)="",VLOOKUP(#REF!&"-"&ROW()-92,[1]ワークシート!$C$2:$CI$1002,33,0),IF(VLOOKUP(#REF!&"-"&ROW()-92,[1]ワークシート!$C$2:$CI$1002,31,0)="物納（米）",VLOOKUP(#REF!&"-"&ROW()-92,[1]ワークシート!$C$2:$CI$1002,35,0)&"kg",IF(VLOOKUP(#REF!&"-"&ROW()-92,[1]ワークシート!$C$2:$CI$1002,31,0)="物納（現金）",VLOOKUP(#REF!&"-"&ROW()-92,[1]ワークシート!$C$2:$CI$1002,36,0)&"円",""))),"") | AB80: =IF(T80="使用貸借権","-",+IFERROR(VLOOKUP(#REF!&"-"&ROW()-92,[1]ワークシート!$C$2:$CI$1002,34,0)&"","")) | AE80: =IF(T80="","",IF(VLOOKUP(#REF!&"-"&ROW()-92,[1]ワークシート!$C$2:$CI$1002,31,0)="",IF(T80="使用貸借権","-","口座振込 １２月"),"物納")) | AG80: =IFERROR(IF(VLOOKUP(#REF!&"-"&ROW()-92,[1]ワークシート!$C$2:$CI$1002,37,0)="","",VLOOKUP(#REF!&"-"&ROW()-92,[1]ワークシート!$C$2:$CI$1002,37,0)),"")
A81: =+IFERROR(IF(VLOOKUP(#REF!&"-"&ROW()-92,[1]ワークシート!$C$2:$CI$1002,9,0)="","",VLOOKUP(#REF!&"-"&ROW()-92,[1]ワークシート!$C$2:$CI$1002,9,0)),"") | C81: =+IFERROR(IF(VLOOKUP(#REF!&"-"&ROW()-92,[1]ワークシート!$C$2:$CI$1002,10,0) = "","",VLOOKUP(#REF!&"-"&ROW()-92,[1]ワークシート!$C$2:$CI$1002,10,0)),"") | E81: =+IFERROR(IF(VLOOKUP(#REF!&"-"&ROW()-92,[1]ワークシート!$C$2:$CI$1002,11,0)="","",VLOOKUP(#REF!&"-"&ROW()-92,[1]ワークシート!$C$2:$CI$1002,11,0)),"") | G81: =+IFERROR(IF(VLOOKUP(#REF!&"-"&ROW()-92,[1]ワークシート!$C$2:$CI$1002,12,0)="","",VLOOKUP(#REF!&"-"&ROW()-92,[1]ワークシート!$C$2:$CI$1002,12,0)),"") | H81: =IFERROR(IF(VLOOKUP(#REF!&"-"&ROW()-92,[1]ワークシート!$C$2:$CI$1002,15,0)="","",IF(VLOOKUP(#REF!&"-"&ROW()-92,[1]ワークシート!$C$2:$CI$1002,15,0)= VLOOKUP(#REF!&"-"&ROW()-92,[1]ワークシート!$C$2:$CI$1002,14,0),VLOOKUP(#REF!&"-"&ROW()-92,[1]ワークシート!$C$2:$CI$1002,15,0),VLOOKUP(#REF!&"-"&ROW()-92, [1]ワークシート!$C$2:$CI$1002,14,0) & "㎡の 内" & VLOOKUP(#REF!&"-"&ROW()-92,[1]ワークシート!$C$2:$CI$1002,15,0)&"㎡")),"") | J81: =+IFERROR(IF(VLOOKUP(#REF!&"-"&ROW()-92,[1]ワークシート!$C$2:$CI$1002,20,0)="","",VLOOKUP(#REF!&"-"&ROW()-92,[1]ワークシート!$C$2:$CI$1002,20,0)),"") | M81: =+IFERROR(IF(VLOOKUP(#REF!&"-"&ROW()-92,[1]ワークシート!$C$2:$CI$1002,61,0)="","",VLOOKUP(#REF!&"-"&ROW()-92,[1]ワークシート!$C$2:$CI$1002,61,0)),"") | P81: =+IFERROR(VLOOKUP(#REF!&"-"&ROW()-92,[1]ワークシート!$C$2:$CI$1002,26,0),"") | R81: =+IFERROR(VLOOKUP(#REF!&"-"&ROW()-92,[1]ワークシート!$C$2:$CI$1002,27,0),"") | T81: =IFERROR(IF(VLOOKUP(#REF!&"-"&ROW()-92,[1]ワークシート!$C$2:$CI$1002,31,0)="",IF(X81="","",IF(X81=0,"使用貸借権","賃借権")),"賃借権"),"") | V81: =+IFERROR(IF(VLOOKUP(#REF!&"-"&ROW()-92,[1]ワークシート!$C$2:$CI$1002,13,0)="","",VLOOKUP(#REF!&"-"&ROW()-92,[1]ワークシート!$C$2:$CI$1002,13,0)),"") | X81: =+IFERROR(IF(VLOOKUP(#REF!&"-"&ROW()-92,[1]ワークシート!$C$2:$CI$1002,31,0)="",VLOOKUP(#REF!&"-"&ROW()-92,[1]ワークシート!$C$2:$CI$1002,33,0),IF(VLOOKUP(#REF!&"-"&ROW()-92,[1]ワークシート!$C$2:$CI$1002,31,0)="物納（米）",VLOOKUP(#REF!&"-"&ROW()-92,[1]ワークシート!$C$2:$CI$1002,35,0)&"kg",IF(VLOOKUP(#REF!&"-"&ROW()-92,[1]ワークシート!$C$2:$CI$1002,31,0)="物納（現金）",VLOOKUP(#REF!&"-"&ROW()-92,[1]ワークシート!$C$2:$CI$1002,36,0)&"円",""))),"") | AB81: =IF(T81="使用貸借権","-",+IFERROR(VLOOKUP(#REF!&"-"&ROW()-92,[1]ワークシート!$C$2:$CI$1002,34,0)&"","")) | AE81: =IF(T81="","",IF(VLOOKUP(#REF!&"-"&ROW()-92,[1]ワークシート!$C$2:$CI$1002,31,0)="",IF(T81="使用貸借権","-","口座振込 １２月"),"物納")) | AG81: =IFERROR(IF(VLOOKUP(#REF!&"-"&ROW()-92,[1]ワークシート!$C$2:$CI$1002,37,0)="","",VLOOKUP(#REF!&"-"&ROW()-92,[1]ワークシート!$C$2:$CI$1002,37,0)),"")
A82: =+IFERROR(IF(VLOOKUP(#REF!&"-"&ROW()-92,[1]ワークシート!$C$2:$CI$1002,9,0)="","",VLOOKUP(#REF!&"-"&ROW()-92,[1]ワークシート!$C$2:$CI$1002,9,0)),"") | C82: =+IFERROR(IF(VLOOKUP(#REF!&"-"&ROW()-92,[1]ワークシート!$C$2:$CI$1002,10,0) = "","",VLOOKUP(#REF!&"-"&ROW()-92,[1]ワークシート!$C$2:$CI$1002,10,0)),"") | E82: =+IFERROR(IF(VLOOKUP(#REF!&"-"&ROW()-92,[1]ワークシート!$C$2:$CI$1002,11,0)="","",VLOOKUP(#REF!&"-"&ROW()-92,[1]ワークシート!$C$2:$CI$1002,11,0)),"") | G82: =+IFERROR(IF(VLOOKUP(#REF!&"-"&ROW()-92,[1]ワークシート!$C$2:$CI$1002,12,0)="","",VLOOKUP(#REF!&"-"&ROW()-92,[1]ワークシート!$C$2:$CI$1002,12,0)),"") | H82: =IFERROR(IF(VLOOKUP(#REF!&"-"&ROW()-92,[1]ワークシート!$C$2:$CI$1002,15,0)="","",IF(VLOOKUP(#REF!&"-"&ROW()-92,[1]ワークシート!$C$2:$CI$1002,15,0)= VLOOKUP(#REF!&"-"&ROW()-92,[1]ワークシート!$C$2:$CI$1002,14,0),VLOOKUP(#REF!&"-"&ROW()-92,[1]ワークシート!$C$2:$CI$1002,15,0),VLOOKUP(#REF!&"-"&ROW()-92, [1]ワークシート!$C$2:$CI$1002,14,0) & "㎡の 内" & VLOOKUP(#REF!&"-"&ROW()-92,[1]ワークシート!$C$2:$CI$1002,15,0)&"㎡")),"") | J82: =+IFERROR(IF(VLOOKUP(#REF!&"-"&ROW()-92,[1]ワークシート!$C$2:$CI$1002,20,0)="","",VLOOKUP(#REF!&"-"&ROW()-92,[1]ワークシート!$C$2:$CI$1002,20,0)),"") | M82: =+IFERROR(IF(VLOOKUP(#REF!&"-"&ROW()-92,[1]ワークシート!$C$2:$CI$1002,61,0)="","",VLOOKUP(#REF!&"-"&ROW()-92,[1]ワークシート!$C$2:$CI$1002,61,0)),"") | P82: =+IFERROR(VLOOKUP(#REF!&"-"&ROW()-92,[1]ワークシート!$C$2:$CI$1002,26,0),"") | R82: =+IFERROR(VLOOKUP(#REF!&"-"&ROW()-92,[1]ワークシート!$C$2:$CI$1002,27,0),"") | T82: =IFERROR(IF(VLOOKUP(#REF!&"-"&ROW()-92,[1]ワークシート!$C$2:$CI$1002,31,0)="",IF(X82="","",IF(X82=0,"使用貸借権","賃借権")),"賃借権"),"") | V82: =+IFERROR(IF(VLOOKUP(#REF!&"-"&ROW()-92,[1]ワークシート!$C$2:$CI$1002,13,0)="","",VLOOKUP(#REF!&"-"&ROW()-92,[1]ワークシート!$C$2:$CI$1002,13,0)),"") | X82: =+IFERROR(IF(VLOOKUP(#REF!&"-"&ROW()-92,[1]ワークシート!$C$2:$CI$1002,31,0)="",VLOOKUP(#REF!&"-"&ROW()-92,[1]ワークシート!$C$2:$CI$1002,33,0),IF(VLOOKUP(#REF!&"-"&ROW()-92,[1]ワークシート!$C$2:$CI$1002,31,0)="物納（米）",VLOOKUP(#REF!&"-"&ROW()-92,[1]ワークシート!$C$2:$CI$1002,35,0)&"kg",IF(VLOOKUP(#REF!&"-"&ROW()-92,[1]ワークシート!$C$2:$CI$1002,31,0)="物納（現金）",VLOOKUP(#REF!&"-"&ROW()-92,[1]ワークシート!$C$2:$CI$1002,36,0)&"円",""))),"") | AB82: =IF(T82="使用貸借権","-",+IFERROR(VLOOKUP(#REF!&"-"&ROW()-92,[1]ワークシート!$C$2:$CI$1002,34,0)&"","")) | AE82: =IF(T82="","",IF(VLOOKUP(#REF!&"-"&ROW()-92,[1]ワークシート!$C$2:$CI$1002,31,0)="",IF(T82="使用貸借権","-","口座振込 １２月"),"物納")) | AG82: =IFERROR(IF(VLOOKUP(#REF!&"-"&ROW()-92,[1]ワークシート!$C$2:$CI$1002,37,0)="","",VLOOKUP(#REF!&"-"&ROW()-92,[1]ワークシート!$C$2:$CI$1002,37,0)),"")
A83: =+IFERROR(IF(VLOOKUP(#REF!&"-"&ROW()-92,[1]ワークシート!$C$2:$CI$1002,9,0)="","",VLOOKUP(#REF!&"-"&ROW()-92,[1]ワークシート!$C$2:$CI$1002,9,0)),"") | C83: =+IFERROR(IF(VLOOKUP(#REF!&"-"&ROW()-92,[1]ワークシート!$C$2:$CI$1002,10,0) = "","",VLOOKUP(#REF!&"-"&ROW()-92,[1]ワークシート!$C$2:$CI$1002,10,0)),"") | E83: =+IFERROR(IF(VLOOKUP(#REF!&"-"&ROW()-92,[1]ワークシート!$C$2:$CI$1002,11,0)="","",VLOOKUP(#REF!&"-"&ROW()-92,[1]ワークシート!$C$2:$CI$1002,11,0)),"") | G83: =+IFERROR(IF(VLOOKUP(#REF!&"-"&ROW()-92,[1]ワークシート!$C$2:$CI$1002,12,0)="","",VLOOKUP(#REF!&"-"&ROW()-92,[1]ワークシート!$C$2:$CI$1002,12,0)),"") | H83: =IFERROR(IF(VLOOKUP(#REF!&"-"&ROW()-92,[1]ワークシート!$C$2:$CI$1002,15,0)="","",IF(VLOOKUP(#REF!&"-"&ROW()-92,[1]ワークシート!$C$2:$CI$1002,15,0)= VLOOKUP(#REF!&"-"&ROW()-92,[1]ワークシート!$C$2:$CI$1002,14,0),VLOOKUP(#REF!&"-"&ROW()-92,[1]ワークシート!$C$2:$CI$1002,15,0),VLOOKUP(#REF!&"-"&ROW()-92, [1]ワークシート!$C$2:$CI$1002,14,0) & "㎡の 内" & VLOOKUP(#REF!&"-"&ROW()-92,[1]ワークシート!$C$2:$CI$1002,15,0)&"㎡")),"") | J83: =+IFERROR(IF(VLOOKUP(#REF!&"-"&ROW()-92,[1]ワークシート!$C$2:$CI$1002,20,0)="","",VLOOKUP(#REF!&"-"&ROW()-92,[1]ワークシート!$C$2:$CI$1002,20,0)),"") | M83: =+IFERROR(IF(VLOOKUP(#REF!&"-"&ROW()-92,[1]ワークシート!$C$2:$CI$1002,61,0)="","",VLOOKUP(#REF!&"-"&ROW()-92,[1]ワークシート!$C$2:$CI$1002,61,0)),"") | P83: =+IFERROR(VLOOKUP(#REF!&"-"&ROW()-92,[1]ワークシート!$C$2:$CI$1002,26,0),"") | R83: =+IFERROR(VLOOKUP(#REF!&"-"&ROW()-92,[1]ワークシート!$C$2:$CI$1002,27,0),"") | T83: =IFERROR(IF(VLOOKUP(#REF!&"-"&ROW()-92,[1]ワークシート!$C$2:$CI$1002,31,0)="",IF(X83="","",IF(X83=0,"使用貸借権","賃借権")),"賃借権"),"") | V83: =+IFERROR(IF(VLOOKUP(#REF!&"-"&ROW()-92,[1]ワークシート!$C$2:$CI$1002,13,0)="","",VLOOKUP(#REF!&"-"&ROW()-92,[1]ワークシート!$C$2:$CI$1002,13,0)),"") | X83: =+IFERROR(IF(VLOOKUP(#REF!&"-"&ROW()-92,[1]ワークシート!$C$2:$CI$1002,31,0)="",VLOOKUP(#REF!&"-"&ROW()-92,[1]ワークシート!$C$2:$CI$1002,33,0),IF(VLOOKUP(#REF!&"-"&ROW()-92,[1]ワークシート!$C$2:$CI$1002,31,0)="物納（米）",VLOOKUP(#REF!&"-"&ROW()-92,[1]ワークシート!$C$2:$CI$1002,35,0)&"kg",IF(VLOOKUP(#REF!&"-"&ROW()-92,[1]ワークシート!$C$2:$CI$1002,31,0)="物納（現金）",VLOOKUP(#REF!&"-"&ROW()-92,[1]ワークシート!$C$2:$CI$1002,36,0)&"円",""))),"") | AB83: =IF(T83="使用貸借権","-",+IFERROR(VLOOKUP(#REF!&"-"&ROW()-92,[1]ワークシート!$C$2:$CI$1002,34,0)&"","")) | AE83: =IF(T83="","",IF(VLOOKUP(#REF!&"-"&ROW()-92,[1]ワークシート!$C$2:$CI$1002,31,0)="",IF(T83="使用貸借権","-","口座振込 １２月"),"物納")) | AG83: =IFERROR(IF(VLOOKUP(#REF!&"-"&ROW()-92,[1]ワークシート!$C$2:$CI$1002,37,0)="","",VLOOKUP(#REF!&"-"&ROW()-92,[1]ワークシート!$C$2:$CI$1002,37,0)),"")
A84: =+IFERROR(IF(VLOOKUP(#REF!&"-"&ROW()-92,[1]ワークシート!$C$2:$CI$1002,9,0)="","",VLOOKUP(#REF!&"-"&ROW()-92,[1]ワークシート!$C$2:$CI$1002,9,0)),"") | C84: =+IFERROR(IF(VLOOKUP(#REF!&"-"&ROW()-92,[1]ワークシート!$C$2:$CI$1002,10,0) = "","",VLOOKUP(#REF!&"-"&ROW()-92,[1]ワークシート!$C$2:$CI$1002,10,0)),"") | E84: =+IFERROR(IF(VLOOKUP(#REF!&"-"&ROW()-92,[1]ワークシート!$C$2:$CI$1002,11,0)="","",VLOOKUP(#REF!&"-"&ROW()-92,[1]ワークシート!$C$2:$CI$1002,11,0)),"") | G84: =+IFERROR(IF(VLOOKUP(#REF!&"-"&ROW()-92,[1]ワークシート!$C$2:$CI$1002,12,0)="","",VLOOKUP(#REF!&"-"&ROW()-92,[1]ワークシート!$C$2:$CI$1002,12,0)),"") | H84: =IFERROR(IF(VLOOKUP(#REF!&"-"&ROW()-92,[1]ワークシート!$C$2:$CI$1002,15,0)="","",IF(VLOOKUP(#REF!&"-"&ROW()-92,[1]ワークシート!$C$2:$CI$1002,15,0)= VLOOKUP(#REF!&"-"&ROW()-92,[1]ワークシート!$C$2:$CI$1002,14,0),VLOOKUP(#REF!&"-"&ROW()-92,[1]ワークシート!$C$2:$CI$1002,15,0),VLOOKUP(#REF!&"-"&ROW()-92, [1]ワークシート!$C$2:$CI$1002,14,0) & "㎡の 内" & VLOOKUP(#REF!&"-"&ROW()-92,[1]ワークシート!$C$2:$CI$1002,15,0)&"㎡")),"") | J84: =+IFERROR(IF(VLOOKUP(#REF!&"-"&ROW()-92,[1]ワークシート!$C$2:$CI$1002,20,0)="","",VLOOKUP(#REF!&"-"&ROW()-92,[1]ワークシート!$C$2:$CI$1002,20,0)),"") | M84: =+IFERROR(IF(VLOOKUP(#REF!&"-"&ROW()-92,[1]ワークシート!$C$2:$CI$1002,61,0)="","",VLOOKUP(#REF!&"-"&ROW()-92,[1]ワークシート!$C$2:$CI$1002,61,0)),"") | P84: =+IFERROR(VLOOKUP(#REF!&"-"&ROW()-92,[1]ワークシート!$C$2:$CI$1002,26,0),"") | R84: =+IFERROR(VLOOKUP(#REF!&"-"&ROW()-92,[1]ワークシート!$C$2:$CI$1002,27,0),"") | T84: =IFERROR(IF(VLOOKUP(#REF!&"-"&ROW()-92,[1]ワークシート!$C$2:$CI$1002,31,0)="",IF(X84="","",IF(X84=0,"使用貸借権","賃借権")),"賃借権"),"") | V84: =+IFERROR(IF(VLOOKUP(#REF!&"-"&ROW()-92,[1]ワークシート!$C$2:$CI$1002,13,0)="","",VLOOKUP(#REF!&"-"&ROW()-92,[1]ワークシート!$C$2:$CI$1002,13,0)),"") | X84: =+IFERROR(IF(VLOOKUP(#REF!&"-"&ROW()-92,[1]ワークシート!$C$2:$CI$1002,31,0)="",VLOOKUP(#REF!&"-"&ROW()-92,[1]ワークシート!$C$2:$CI$1002,33,0),IF(VLOOKUP(#REF!&"-"&ROW()-92,[1]ワークシート!$C$2:$CI$1002,31,0)="物納（米）",VLOOKUP(#REF!&"-"&ROW()-92,[1]ワークシート!$C$2:$CI$1002,35,0)&"kg",IF(VLOOKUP(#REF!&"-"&ROW()-92,[1]ワークシート!$C$2:$CI$1002,31,0)="物納（現金）",VLOOKUP(#REF!&"-"&ROW()-92,[1]ワークシート!$C$2:$CI$1002,36,0)&"円",""))),"") | AB84: =IF(T84="使用貸借権","-",+IFERROR(VLOOKUP(#REF!&"-"&ROW()-92,[1]ワークシート!$C$2:$CI$1002,34,0)&"","")) | AE84: =IF(T84="","",IF(VLOOKUP(#REF!&"-"&ROW()-92,[1]ワークシート!$C$2:$CI$1002,31,0)="",IF(T84="使用貸借権","-","口座振込 １２月"),"物納")) | AG84: =IFERROR(IF(VLOOKUP(#REF!&"-"&ROW()-92,[1]ワークシート!$C$2:$CI$1002,37,0)="","",VLOOKUP(#REF!&"-"&ROW()-92,[1]ワークシート!$C$2:$CI$1002,37,0)),"")
A85: =+IFERROR(IF(VLOOKUP(#REF!&"-"&ROW()-92,[1]ワークシート!$C$2:$CI$1002,9,0)="","",VLOOKUP(#REF!&"-"&ROW()-92,[1]ワークシート!$C$2:$CI$1002,9,0)),"") | C85: =+IFERROR(IF(VLOOKUP(#REF!&"-"&ROW()-92,[1]ワークシート!$C$2:$CI$1002,10,0) = "","",VLOOKUP(#REF!&"-"&ROW()-92,[1]ワークシート!$C$2:$CI$1002,10,0)),"") | E85: =+IFERROR(IF(VLOOKUP(#REF!&"-"&ROW()-92,[1]ワークシート!$C$2:$CI$1002,11,0)="","",VLOOKUP(#REF!&"-"&ROW()-92,[1]ワークシート!$C$2:$CI$1002,11,0)),"") | G85: =+IFERROR(IF(VLOOKUP(#REF!&"-"&ROW()-92,[1]ワークシート!$C$2:$CI$1002,12,0)="","",VLOOKUP(#REF!&"-"&ROW()-92,[1]ワークシート!$C$2:$CI$1002,12,0)),"") | H85: =IFERROR(IF(VLOOKUP(#REF!&"-"&ROW()-92,[1]ワークシート!$C$2:$CI$1002,15,0)="","",IF(VLOOKUP(#REF!&"-"&ROW()-92,[1]ワークシート!$C$2:$CI$1002,15,0)= VLOOKUP(#REF!&"-"&ROW()-92,[1]ワークシート!$C$2:$CI$1002,14,0),VLOOKUP(#REF!&"-"&ROW()-92,[1]ワークシート!$C$2:$CI$1002,15,0),VLOOKUP(#REF!&"-"&ROW()-92, [1]ワークシート!$C$2:$CI$1002,14,0) & "㎡の 内" & VLOOKUP(#REF!&"-"&ROW()-92,[1]ワークシート!$C$2:$CI$1002,15,0)&"㎡")),"") | J85: =+IFERROR(IF(VLOOKUP(#REF!&"-"&ROW()-92,[1]ワークシート!$C$2:$CI$1002,20,0)="","",VLOOKUP(#REF!&"-"&ROW()-92,[1]ワークシート!$C$2:$CI$1002,20,0)),"") | M85: =+IFERROR(IF(VLOOKUP(#REF!&"-"&ROW()-92,[1]ワークシート!$C$2:$CI$1002,61,0)="","",VLOOKUP(#REF!&"-"&ROW()-92,[1]ワークシート!$C$2:$CI$1002,61,0)),"") | P85: =+IFERROR(VLOOKUP(#REF!&"-"&ROW()-92,[1]ワークシート!$C$2:$CI$1002,26,0),"") | R85: =+IFERROR(VLOOKUP(#REF!&"-"&ROW()-92,[1]ワークシート!$C$2:$CI$1002,27,0),"") | T85: =IFERROR(IF(VLOOKUP(#REF!&"-"&ROW()-92,[1]ワークシート!$C$2:$CI$1002,31,0)="",IF(X85="","",IF(X85=0,"使用貸借権","賃借権")),"賃借権"),"") | V85: =+IFERROR(IF(VLOOKUP(#REF!&"-"&ROW()-92,[1]ワークシート!$C$2:$CI$1002,13,0)="","",VLOOKUP(#REF!&"-"&ROW()-92,[1]ワークシート!$C$2:$CI$1002,13,0)),"") | X85: =+IFERROR(IF(VLOOKUP(#REF!&"-"&ROW()-92,[1]ワークシート!$C$2:$CI$1002,31,0)="",VLOOKUP(#REF!&"-"&ROW()-92,[1]ワークシート!$C$2:$CI$1002,33,0),IF(VLOOKUP(#REF!&"-"&ROW()-92,[1]ワークシート!$C$2:$CI$1002,31,0)="物納（米）",VLOOKUP(#REF!&"-"&ROW()-92,[1]ワークシート!$C$2:$CI$1002,35,0)&"kg",IF(VLOOKUP(#REF!&"-"&ROW()-92,[1]ワークシート!$C$2:$CI$1002,31,0)="物納（現金）",VLOOKUP(#REF!&"-"&ROW()-92,[1]ワークシート!$C$2:$CI$1002,36,0)&"円",""))),"") | AB85: =IF(T85="使用貸借権","-",+IFERROR(VLOOKUP(#REF!&"-"&ROW()-92,[1]ワークシート!$C$2:$CI$1002,34,0)&"","")) | AE85: =IF(T85="","",IF(VLOOKUP(#REF!&"-"&ROW()-92,[1]ワークシート!$C$2:$CI$1002,31,0)="",IF(T85="使用貸借権","-","口座振込 １２月"),"物納")) | AG85: =IFERROR(IF(VLOOKUP(#REF!&"-"&ROW()-92,[1]ワークシート!$C$2:$CI$1002,37,0)="","",VLOOKUP(#REF!&"-"&ROW()-92,[1]ワークシート!$C$2:$CI$1002,37,0)),"")
A86: =+IFERROR(IF(VLOOKUP(#REF!&"-"&ROW()-92,[1]ワークシート!$C$2:$CI$1002,9,0)="","",VLOOKUP(#REF!&"-"&ROW()-92,[1]ワークシート!$C$2:$CI$1002,9,0)),"") | C86: =+IFERROR(IF(VLOOKUP(#REF!&"-"&ROW()-92,[1]ワークシート!$C$2:$CI$1002,10,0) = "","",VLOOKUP(#REF!&"-"&ROW()-92,[1]ワークシート!$C$2:$CI$1002,10,0)),"") | E86: =+IFERROR(IF(VLOOKUP(#REF!&"-"&ROW()-92,[1]ワークシート!$C$2:$CI$1002,11,0)="","",VLOOKUP(#REF!&"-"&ROW()-92,[1]ワークシート!$C$2:$CI$1002,11,0)),"") | G86: =+IFERROR(IF(VLOOKUP(#REF!&"-"&ROW()-92,[1]ワークシート!$C$2:$CI$1002,12,0)="","",VLOOKUP(#REF!&"-"&ROW()-92,[1]ワークシート!$C$2:$CI$1002,12,0)),"") | H86: =IFERROR(IF(VLOOKUP(#REF!&"-"&ROW()-92,[1]ワークシート!$C$2:$CI$1002,15,0)="","",IF(VLOOKUP(#REF!&"-"&ROW()-92,[1]ワークシート!$C$2:$CI$1002,15,0)= VLOOKUP(#REF!&"-"&ROW()-92,[1]ワークシート!$C$2:$CI$1002,14,0),VLOOKUP(#REF!&"-"&ROW()-92,[1]ワークシート!$C$2:$CI$1002,15,0),VLOOKUP(#REF!&"-"&ROW()-92, [1]ワークシート!$C$2:$CI$1002,14,0) & "㎡の 内" & VLOOKUP(#REF!&"-"&ROW()-92,[1]ワークシート!$C$2:$CI$1002,15,0)&"㎡")),"") | J86: =+IFERROR(IF(VLOOKUP(#REF!&"-"&ROW()-92,[1]ワークシート!$C$2:$CI$1002,20,0)="","",VLOOKUP(#REF!&"-"&ROW()-92,[1]ワークシート!$C$2:$CI$1002,20,0)),"") | M86: =+IFERROR(IF(VLOOKUP(#REF!&"-"&ROW()-92,[1]ワークシート!$C$2:$CI$1002,61,0)="","",VLOOKUP(#REF!&"-"&ROW()-92,[1]ワークシート!$C$2:$CI$1002,61,0)),"") | P86: =+IFERROR(VLOOKUP(#REF!&"-"&ROW()-92,[1]ワークシート!$C$2:$CI$1002,26,0),"") | R86: =+IFERROR(VLOOKUP(#REF!&"-"&ROW()-92,[1]ワークシート!$C$2:$CI$1002,27,0),"") | T86: =IFERROR(IF(VLOOKUP(#REF!&"-"&ROW()-92,[1]ワークシート!$C$2:$CI$1002,31,0)="",IF(X86="","",IF(X86=0,"使用貸借権","賃借権")),"賃借権"),"") | V86: =+IFERROR(IF(VLOOKUP(#REF!&"-"&ROW()-92,[1]ワークシート!$C$2:$CI$1002,13,0)="","",VLOOKUP(#REF!&"-"&ROW()-92,[1]ワークシート!$C$2:$CI$1002,13,0)),"") | X86: =+IFERROR(IF(VLOOKUP(#REF!&"-"&ROW()-92,[1]ワークシート!$C$2:$CI$1002,31,0)="",VLOOKUP(#REF!&"-"&ROW()-92,[1]ワークシート!$C$2:$CI$1002,33,0),IF(VLOOKUP(#REF!&"-"&ROW()-92,[1]ワークシート!$C$2:$CI$1002,31,0)="物納（米）",VLOOKUP(#REF!&"-"&ROW()-92,[1]ワークシート!$C$2:$CI$1002,35,0)&"kg",IF(VLOOKUP(#REF!&"-"&ROW()-92,[1]ワークシート!$C$2:$CI$1002,31,0)="物納（現金）",VLOOKUP(#REF!&"-"&ROW()-92,[1]ワークシート!$C$2:$CI$1002,36,0)&"円",""))),"") | AB86: =IF(T86="使用貸借権","-",+IFERROR(VLOOKUP(#REF!&"-"&ROW()-92,[1]ワークシート!$C$2:$CI$1002,34,0)&"","")) | AE86: =IF(T86="","",IF(VLOOKUP(#REF!&"-"&ROW()-92,[1]ワークシート!$C$2:$CI$1002,31,0)="",IF(T86="使用貸借権","-","口座振込 １２月"),"物納")) | AG86: =IFERROR(IF(VLOOKUP(#REF!&"-"&ROW()-92,[1]ワークシート!$C$2:$CI$1002,37,0)="","",VLOOKUP(#REF!&"-"&ROW()-92,[1]ワークシート!$C$2:$CI$1002,37,0)),"")
A87: =+IFERROR(IF(VLOOKUP(#REF!&"-"&ROW()-92,[1]ワークシート!$C$2:$CI$1002,9,0)="","",VLOOKUP(#REF!&"-"&ROW()-92,[1]ワークシート!$C$2:$CI$1002,9,0)),"") | C87: =+IFERROR(IF(VLOOKUP(#REF!&"-"&ROW()-92,[1]ワークシート!$C$2:$CI$1002,10,0) = "","",VLOOKUP(#REF!&"-"&ROW()-92,[1]ワークシート!$C$2:$CI$1002,10,0)),"") | E87: =+IFERROR(IF(VLOOKUP(#REF!&"-"&ROW()-92,[1]ワークシート!$C$2:$CI$1002,11,0)="","",VLOOKUP(#REF!&"-"&ROW()-92,[1]ワークシート!$C$2:$CI$1002,11,0)),"") | G87: =+IFERROR(IF(VLOOKUP(#REF!&"-"&ROW()-92,[1]ワークシート!$C$2:$CI$1002,12,0)="","",VLOOKUP(#REF!&"-"&ROW()-92,[1]ワークシート!$C$2:$CI$1002,12,0)),"") | H87: =IFERROR(IF(VLOOKUP(#REF!&"-"&ROW()-92,[1]ワークシート!$C$2:$CI$1002,15,0)="","",IF(VLOOKUP(#REF!&"-"&ROW()-92,[1]ワークシート!$C$2:$CI$1002,15,0)= VLOOKUP(#REF!&"-"&ROW()-92,[1]ワークシート!$C$2:$CI$1002,14,0),VLOOKUP(#REF!&"-"&ROW()-92,[1]ワークシート!$C$2:$CI$1002,15,0),VLOOKUP(#REF!&"-"&ROW()-92, [1]ワークシート!$C$2:$CI$1002,14,0) & "㎡の 内" & VLOOKUP(#REF!&"-"&ROW()-92,[1]ワークシート!$C$2:$CI$1002,15,0)&"㎡")),"") | J87: =+IFERROR(IF(VLOOKUP(#REF!&"-"&ROW()-92,[1]ワークシート!$C$2:$CI$1002,20,0)="","",VLOOKUP(#REF!&"-"&ROW()-92,[1]ワークシート!$C$2:$CI$1002,20,0)),"") | M87: =+IFERROR(IF(VLOOKUP(#REF!&"-"&ROW()-92,[1]ワークシート!$C$2:$CI$1002,61,0)="","",VLOOKUP(#REF!&"-"&ROW()-92,[1]ワークシート!$C$2:$CI$1002,61,0)),"") | P87: =+IFERROR(VLOOKUP(#REF!&"-"&ROW()-92,[1]ワークシート!$C$2:$CI$1002,26,0),"") | R87: =+IFERROR(VLOOKUP(#REF!&"-"&ROW()-92,[1]ワークシート!$C$2:$CI$1002,27,0),"") | T87: =IFERROR(IF(VLOOKUP(#REF!&"-"&ROW()-92,[1]ワークシート!$C$2:$CI$1002,31,0)="",IF(X87="","",IF(X87=0,"使用貸借権","賃借権")),"賃借権"),"") | V87: =+IFERROR(IF(VLOOKUP(#REF!&"-"&ROW()-92,[1]ワークシート!$C$2:$CI$1002,13,0)="","",VLOOKUP(#REF!&"-"&ROW()-92,[1]ワークシート!$C$2:$CI$1002,13,0)),"") | X87: =+IFERROR(IF(VLOOKUP(#REF!&"-"&ROW()-92,[1]ワークシート!$C$2:$CI$1002,31,0)="",VLOOKUP(#REF!&"-"&ROW()-92,[1]ワークシート!$C$2:$CI$1002,33,0),IF(VLOOKUP(#REF!&"-"&ROW()-92,[1]ワークシート!$C$2:$CI$1002,31,0)="物納（米）",VLOOKUP(#REF!&"-"&ROW()-92,[1]ワークシート!$C$2:$CI$1002,35,0)&"kg",IF(VLOOKUP(#REF!&"-"&ROW()-92,[1]ワークシート!$C$2:$CI$1002,31,0)="物納（現金）",VLOOKUP(#REF!&"-"&ROW()-92,[1]ワークシート!$C$2:$CI$1002,36,0)&"円",""))),"") | AB87: =IF(T87="使用貸借権","-",+IFERROR(VLOOKUP(#REF!&"-"&ROW()-92,[1]ワークシート!$C$2:$CI$1002,34,0)&"","")) | AE87: =IF(T87="","",IF(VLOOKUP(#REF!&"-"&ROW()-92,[1]ワークシート!$C$2:$CI$1002,31,0)="",IF(T87="使用貸借権","-","口座振込 １２月"),"物納")) | AG87: =IFERROR(IF(VLOOKUP(#REF!&"-"&ROW()-92,[1]ワークシート!$C$2:$CI$1002,37,0)="","",VLOOKUP(#REF!&"-"&ROW()-92,[1]ワークシート!$C$2:$CI$1002,37,0)),"")
A88: =+IFERROR(IF(VLOOKUP(#REF!&"-"&ROW()-92,[1]ワークシート!$C$2:$CI$1002,9,0)="","",VLOOKUP(#REF!&"-"&ROW()-92,[1]ワークシート!$C$2:$CI$1002,9,0)),"") | C88: =+IFERROR(IF(VLOOKUP(#REF!&"-"&ROW()-92,[1]ワークシート!$C$2:$CI$1002,10,0) = "","",VLOOKUP(#REF!&"-"&ROW()-92,[1]ワークシート!$C$2:$CI$1002,10,0)),"") | E88: =+IFERROR(IF(VLOOKUP(#REF!&"-"&ROW()-92,[1]ワークシート!$C$2:$CI$1002,11,0)="","",VLOOKUP(#REF!&"-"&ROW()-92,[1]ワークシート!$C$2:$CI$1002,11,0)),"") | G88: =+IFERROR(IF(VLOOKUP(#REF!&"-"&ROW()-92,[1]ワークシート!$C$2:$CI$1002,12,0)="","",VLOOKUP(#REF!&"-"&ROW()-92,[1]ワークシート!$C$2:$CI$1002,12,0)),"") | H88: =IFERROR(IF(VLOOKUP(#REF!&"-"&ROW()-92,[1]ワークシート!$C$2:$CI$1002,15,0)="","",IF(VLOOKUP(#REF!&"-"&ROW()-92,[1]ワークシート!$C$2:$CI$1002,15,0)= VLOOKUP(#REF!&"-"&ROW()-92,[1]ワークシート!$C$2:$CI$1002,14,0),VLOOKUP(#REF!&"-"&ROW()-92,[1]ワークシート!$C$2:$CI$1002,15,0),VLOOKUP(#REF!&"-"&ROW()-92, [1]ワークシート!$C$2:$CI$1002,14,0) & "㎡の 内" & VLOOKUP(#REF!&"-"&ROW()-92,[1]ワークシート!$C$2:$CI$1002,15,0)&"㎡")),"") | J88: =+IFERROR(IF(VLOOKUP(#REF!&"-"&ROW()-92,[1]ワークシート!$C$2:$CI$1002,20,0)="","",VLOOKUP(#REF!&"-"&ROW()-92,[1]ワークシート!$C$2:$CI$1002,20,0)),"") | M88: =+IFERROR(IF(VLOOKUP(#REF!&"-"&ROW()-92,[1]ワークシート!$C$2:$CI$1002,61,0)="","",VLOOKUP(#REF!&"-"&ROW()-92,[1]ワークシート!$C$2:$CI$1002,61,0)),"") | P88: =+IFERROR(VLOOKUP(#REF!&"-"&ROW()-92,[1]ワークシート!$C$2:$CI$1002,26,0),"") | R88: =+IFERROR(VLOOKUP(#REF!&"-"&ROW()-92,[1]ワークシート!$C$2:$CI$1002,27,0),"") | T88: =IFERROR(IF(VLOOKUP(#REF!&"-"&ROW()-92,[1]ワークシート!$C$2:$CI$1002,31,0)="",IF(X88="","",IF(X88=0,"使用貸借権","賃借権")),"賃借権"),"") | V88: =+IFERROR(IF(VLOOKUP(#REF!&"-"&ROW()-92,[1]ワークシート!$C$2:$CI$1002,13,0)="","",VLOOKUP(#REF!&"-"&ROW()-92,[1]ワークシート!$C$2:$CI$1002,13,0)),"") | X88: =+IFERROR(IF(VLOOKUP(#REF!&"-"&ROW()-92,[1]ワークシート!$C$2:$CI$1002,31,0)="",VLOOKUP(#REF!&"-"&ROW()-92,[1]ワークシート!$C$2:$CI$1002,33,0),IF(VLOOKUP(#REF!&"-"&ROW()-92,[1]ワークシート!$C$2:$CI$1002,31,0)="物納（米）",VLOOKUP(#REF!&"-"&ROW()-92,[1]ワークシート!$C$2:$CI$1002,35,0)&"kg",IF(VLOOKUP(#REF!&"-"&ROW()-92,[1]ワークシート!$C$2:$CI$1002,31,0)="物納（現金）",VLOOKUP(#REF!&"-"&ROW()-92,[1]ワークシート!$C$2:$CI$1002,36,0)&"円",""))),"") | AB88: =IF(T88="使用貸借権","-",+IFERROR(VLOOKUP(#REF!&"-"&ROW()-92,[1]ワークシート!$C$2:$CI$1002,34,0)&"","")) | AE88: =IF(T88="","",IF(VLOOKUP(#REF!&"-"&ROW()-92,[1]ワークシート!$C$2:$CI$1002,31,0)="",IF(T88="使用貸借権","-","口座振込 １２月"),"物納")) | AG88: =IFERROR(IF(VLOOKUP(#REF!&"-"&ROW()-92,[1]ワークシート!$C$2:$CI$1002,37,0)="","",VLOOKUP(#REF!&"-"&ROW()-92,[1]ワークシート!$C$2:$CI$1002,37,0)),"")
A89: =+IFERROR(IF(VLOOKUP(#REF!&"-"&ROW()-92,[1]ワークシート!$C$2:$CI$1002,9,0)="","",VLOOKUP(#REF!&"-"&ROW()-92,[1]ワークシート!$C$2:$CI$1002,9,0)),"") | C89: =+IFERROR(IF(VLOOKUP(#REF!&"-"&ROW()-92,[1]ワークシート!$C$2:$CI$1002,10,0) = "","",VLOOKUP(#REF!&"-"&ROW()-92,[1]ワークシート!$C$2:$CI$1002,10,0)),"") | E89: =+IFERROR(IF(VLOOKUP(#REF!&"-"&ROW()-92,[1]ワークシート!$C$2:$CI$1002,11,0)="","",VLOOKUP(#REF!&"-"&ROW()-92,[1]ワークシート!$C$2:$CI$1002,11,0)),"") | G89: =+IFERROR(IF(VLOOKUP(#REF!&"-"&ROW()-92,[1]ワークシート!$C$2:$CI$1002,12,0)="","",VLOOKUP(#REF!&"-"&ROW()-92,[1]ワークシート!$C$2:$CI$1002,12,0)),"") | H89: =IFERROR(IF(VLOOKUP(#REF!&"-"&ROW()-92,[1]ワークシート!$C$2:$CI$1002,15,0)="","",IF(VLOOKUP(#REF!&"-"&ROW()-92,[1]ワークシート!$C$2:$CI$1002,15,0)= VLOOKUP(#REF!&"-"&ROW()-92,[1]ワークシート!$C$2:$CI$1002,14,0),VLOOKUP(#REF!&"-"&ROW()-92,[1]ワークシート!$C$2:$CI$1002,15,0),VLOOKUP(#REF!&"-"&ROW()-92, [1]ワークシート!$C$2:$CI$1002,14,0) & "㎡の 内" & VLOOKUP(#REF!&"-"&ROW()-92,[1]ワークシート!$C$2:$CI$1002,15,0)&"㎡")),"") | J89: =+IFERROR(IF(VLOOKUP(#REF!&"-"&ROW()-92,[1]ワークシート!$C$2:$CI$1002,20,0)="","",VLOOKUP(#REF!&"-"&ROW()-92,[1]ワークシート!$C$2:$CI$1002,20,0)),"") | M89: =+IFERROR(IF(VLOOKUP(#REF!&"-"&ROW()-92,[1]ワークシート!$C$2:$CI$1002,61,0)="","",VLOOKUP(#REF!&"-"&ROW()-92,[1]ワークシート!$C$2:$CI$1002,61,0)),"") | P89: =+IFERROR(VLOOKUP(#REF!&"-"&ROW()-92,[1]ワークシート!$C$2:$CI$1002,26,0),"") | R89: =+IFERROR(VLOOKUP(#REF!&"-"&ROW()-92,[1]ワークシート!$C$2:$CI$1002,27,0),"") | T89: =IFERROR(IF(VLOOKUP(#REF!&"-"&ROW()-92,[1]ワークシート!$C$2:$CI$1002,31,0)="",IF(X89="","",IF(X89=0,"使用貸借権","賃借権")),"賃借権"),"") | V89: =+IFERROR(IF(VLOOKUP(#REF!&"-"&ROW()-92,[1]ワークシート!$C$2:$CI$1002,13,0)="","",VLOOKUP(#REF!&"-"&ROW()-92,[1]ワークシート!$C$2:$CI$1002,13,0)),"") | X89: =+IFERROR(IF(VLOOKUP(#REF!&"-"&ROW()-92,[1]ワークシート!$C$2:$CI$1002,31,0)="",VLOOKUP(#REF!&"-"&ROW()-92,[1]ワークシート!$C$2:$CI$1002,33,0),IF(VLOOKUP(#REF!&"-"&ROW()-92,[1]ワークシート!$C$2:$CI$1002,31,0)="物納（米）",VLOOKUP(#REF!&"-"&ROW()-92,[1]ワークシート!$C$2:$CI$1002,35,0)&"kg",IF(VLOOKUP(#REF!&"-"&ROW()-92,[1]ワークシート!$C$2:$CI$1002,31,0)="物納（現金）",VLOOKUP(#REF!&"-"&ROW()-92,[1]ワークシート!$C$2:$CI$1002,36,0)&"円",""))),"") | AB89: =IF(T89="使用貸借権","-",+IFERROR(VLOOKUP(#REF!&"-"&ROW()-92,[1]ワークシート!$C$2:$CI$1002,34,0)&"","")) | AE89: =IF(T89="","",IF(VLOOKUP(#REF!&"-"&ROW()-92,[1]ワークシート!$C$2:$CI$1002,31,0)="",IF(T89="使用貸借権","-","口座振込 １２月"),"物納")) | AG89: =IFERROR(IF(VLOOKUP(#REF!&"-"&ROW()-92,[1]ワークシート!$C$2:$CI$1002,37,0)="","",VLOOKUP(#REF!&"-"&ROW()-92,[1]ワークシート!$C$2:$CI$1002,37,0)),"")
A90: =+IFERROR(IF(VLOOKUP(#REF!&"-"&ROW()-92,[1]ワークシート!$C$2:$CI$1002,9,0)="","",VLOOKUP(#REF!&"-"&ROW()-92,[1]ワークシート!$C$2:$CI$1002,9,0)),"") | C90: =+IFERROR(IF(VLOOKUP(#REF!&"-"&ROW()-92,[1]ワークシート!$C$2:$CI$1002,10,0) = "","",VLOOKUP(#REF!&"-"&ROW()-92,[1]ワークシート!$C$2:$CI$1002,10,0)),"") | E90: =+IFERROR(IF(VLOOKUP(#REF!&"-"&ROW()-92,[1]ワークシート!$C$2:$CI$1002,11,0)="","",VLOOKUP(#REF!&"-"&ROW()-92,[1]ワークシート!$C$2:$CI$1002,11,0)),"") | G90: =+IFERROR(IF(VLOOKUP(#REF!&"-"&ROW()-92,[1]ワークシート!$C$2:$CI$1002,12,0)="","",VLOOKUP(#REF!&"-"&ROW()-92,[1]ワークシート!$C$2:$CI$1002,12,0)),"") | H90: =IFERROR(IF(VLOOKUP(#REF!&"-"&ROW()-92,[1]ワークシート!$C$2:$CI$1002,15,0)="","",IF(VLOOKUP(#REF!&"-"&ROW()-92,[1]ワークシート!$C$2:$CI$1002,15,0)= VLOOKUP(#REF!&"-"&ROW()-92,[1]ワークシート!$C$2:$CI$1002,14,0),VLOOKUP(#REF!&"-"&ROW()-92,[1]ワークシート!$C$2:$CI$1002,15,0),VLOOKUP(#REF!&"-"&ROW()-92, [1]ワークシート!$C$2:$CI$1002,14,0) & "㎡の 内" & VLOOKUP(#REF!&"-"&ROW()-92,[1]ワークシート!$C$2:$CI$1002,15,0)&"㎡")),"") | J90: =+IFERROR(IF(VLOOKUP(#REF!&"-"&ROW()-92,[1]ワークシート!$C$2:$CI$1002,20,0)="","",VLOOKUP(#REF!&"-"&ROW()-92,[1]ワークシート!$C$2:$CI$1002,20,0)),"") | M90: =+IFERROR(IF(VLOOKUP(#REF!&"-"&ROW()-92,[1]ワークシート!$C$2:$CI$1002,61,0)="","",VLOOKUP(#REF!&"-"&ROW()-92,[1]ワークシート!$C$2:$CI$1002,61,0)),"") | P90: =+IFERROR(VLOOKUP(#REF!&"-"&ROW()-92,[1]ワークシート!$C$2:$CI$1002,26,0),"") | R90: =+IFERROR(VLOOKUP(#REF!&"-"&ROW()-92,[1]ワークシート!$C$2:$CI$1002,27,0),"") | T90: =IFERROR(IF(VLOOKUP(#REF!&"-"&ROW()-92,[1]ワークシート!$C$2:$CI$1002,31,0)="",IF(X90="","",IF(X90=0,"使用貸借権","賃借権")),"賃借権"),"") | V90: =+IFERROR(IF(VLOOKUP(#REF!&"-"&ROW()-92,[1]ワークシート!$C$2:$CI$1002,13,0)="","",VLOOKUP(#REF!&"-"&ROW()-92,[1]ワークシート!$C$2:$CI$1002,13,0)),"") | X90: =+IFERROR(IF(VLOOKUP(#REF!&"-"&ROW()-92,[1]ワークシート!$C$2:$CI$1002,31,0)="",VLOOKUP(#REF!&"-"&ROW()-92,[1]ワークシート!$C$2:$CI$1002,33,0),IF(VLOOKUP(#REF!&"-"&ROW()-92,[1]ワークシート!$C$2:$CI$1002,31,0)="物納（米）",VLOOKUP(#REF!&"-"&ROW()-92,[1]ワークシート!$C$2:$CI$1002,35,0)&"kg",IF(VLOOKUP(#REF!&"-"&ROW()-92,[1]ワークシート!$C$2:$CI$1002,31,0)="物納（現金）",VLOOKUP(#REF!&"-"&ROW()-92,[1]ワークシート!$C$2:$CI$1002,36,0)&"円",""))),"") | AB90: =IF(T90="使用貸借権","-",+IFERROR(VLOOKUP(#REF!&"-"&ROW()-92,[1]ワークシート!$C$2:$CI$1002,34,0)&"","")) | AE90: =IF(T90="","",IF(VLOOKUP(#REF!&"-"&ROW()-92,[1]ワークシート!$C$2:$CI$1002,31,0)="",IF(T90="使用貸借権","-","口座振込 １２月"),"物納")) | AG90: =IFERROR(IF(VLOOKUP(#REF!&"-"&ROW()-92,[1]ワークシート!$C$2:$CI$1002,37,0)="","",VLOOKUP(#REF!&"-"&ROW()-92,[1]ワークシート!$C$2:$CI$1002,37,0)),"")
... A378: =+IFERROR(IF(VLOOKUP(#REF!&"-"&ROW()-92,[1]ワークシート!$C$2:$CI$1002,9,0)="","",VLOOKUP(#REF!&"-"&ROW()-92,[1]ワークシート!$C$2:$CI$1002,9,0)),"") | C378: =+IFERROR(IF(VLOOKUP(#REF!&"-"&ROW()-92,[1]ワークシート!$C$2:$CI$1002,10,0) = "","",VLOOKUP(#REF!&"-"&ROW()-92,[1]ワークシート!$C$2:$CI$1002,10,0)),"") | E378: =+IFERROR(IF(VLOOKUP(#REF!&"-"&ROW()-92,[1]ワークシート!$C$2:$CI$1002,11,0)="","",VLOOKUP(#REF!&"-"&ROW()-92,[1]ワークシート!$C$2:$CI$1002,11,0)),"") | G378: =+IFERROR(IF(VLOOKUP(#REF!&"-"&ROW()-92,[1]ワークシート!$C$2:$CI$1002,12,0)="","",VLOOKUP(#REF!&"-"&ROW()-92,[1]ワークシート!$C$2:$CI$1002,12,0)),"") | H378: =IFERROR(IF(VLOOKUP(#REF!&"-"&ROW()-92,[1]ワークシート!$C$2:$CI$1002,15,0)="","",IF(VLOOKUP(#REF!&"-"&ROW()-92,[1]ワークシート!$C$2:$CI$1002,15,0)= VLOOKUP(#REF!&"-"&ROW()-92,[1]ワークシート!$C$2:$CI$1002,14,0),VLOOKUP(#REF!&"-"&ROW()-92,[1]ワークシート!$C$2:$CI$1002,15,0),VLOOKUP(#REF!&"-"&ROW()-92, [1]ワークシート!$C$2:$CI$1002,14,0) & "㎡の 内" & VLOOKUP(#REF!&"-"&ROW()-92,[1]ワークシート!$C$2:$CI$1002,15,0)&"㎡")),"") | J378: =+IFERROR(IF(VLOOKUP(#REF!&"-"&ROW()-92,[1]ワークシート!$C$2:$CI$1002,20,0)="","",VLOOKUP(#REF!&"-"&ROW()-92,[1]ワークシート!$C$2:$CI$1002,20,0)),"") | M378: =+IFERROR(IF(VLOOKUP(#REF!&"-"&ROW()-92,[1]ワークシート!$C$2:$CI$1002,61,0)="","",VLOOKUP(#REF!&"-"&ROW()-92,[1]ワークシート!$C$2:$CI$1002,61,0)),"") | P378: =+IFERROR(VLOOKUP(#REF!&"-"&ROW()-92,[1]ワークシート!$C$2:$CI$1002,26,0),"") | R378: =+IFERROR(VLOOKUP(#REF!&"-"&ROW()-92,[1]ワークシート!$C$2:$CI$1002,27,0),"") | T378: =IFERROR(IF(VLOOKUP(#REF!&"-"&ROW()-92,[1]ワークシート!$C$2:$CI$1002,31,0)="",IF(X378="","",IF(X378=0,"使用貸借権","賃借権")),"賃借権"),"") | V378: =+IFERROR(IF(VLOOKUP(#REF!&"-"&ROW()-92,[1]ワークシート!$C$2:$CI$1002,13,0)="","",VLOOKUP(#REF!&"-"&ROW()-92,[1]ワークシート!$C$2:$CI$1002,13,0)),"") | X378: =+IFERROR(IF(VLOOKUP(#REF!&"-"&ROW()-92,[1]ワークシート!$C$2:$CI$1002,31,0)="",VLOOKUP(#REF!&"-"&ROW()-92,[1]ワークシート!$C$2:$CI$1002,33,0),IF(VLOOKUP(#REF!&"-"&ROW()-92,[1]ワークシート!$C$2:$CI$1002,31,0)="物納（米）",VLOOKUP(#REF!&"-"&ROW()-92,[1]ワークシート!$C$2:$CI$1002,35,0)&"kg",IF(VLOOKUP(#REF!&"-"&ROW()-92,[1]ワークシート!$C$2:$CI$1002,31,0)="物納（現金）",VLOOKUP(#REF!&"-"&ROW()-92,[1]ワークシート!$C$2:$CI$1002,36,0)&"円",""))),"") | AB378: =IF(T378="使用貸借権","-",+IFERROR(VLOOKUP(#REF!&"-"&ROW()-92,[1]ワークシート!$C$2:$CI$1002,34,0)&"","")) | AE378: =IF(T378="","",IF(VLOOKUP(#REF!&"-"&ROW()-92,[1]ワークシート!$C$2:$CI$1002,31,0)="",IF(T378="使用貸借権","-","口座振込 １２月"),"物納")) | AG378: =IFERROR(IF(VLOOKUP(#REF!&"-"&ROW()-92,[1]ワークシート!$C$2:$CI$1002,37,0)="","",VLOOKUP(#REF!&"-"&ROW()-92,[1]ワークシート!$C$2:$CI$1002,37,0)),"")

Sheet 【記入例】促進計画（貸し手）
A1: 様式第3号 | E1: 中間管理権設定関係【貸し手（地権者）→群馬県農業公社】 | AE1: 整理番号
A2: １．各筆明細
A3: 借り手 権利の設定を受ける者(Ａ) | E3: 氏名又は名称 | H3: 公益財団法人 群馬県農業公社 理事長 横室 光良 | P3: 住所 | R3: 〒371-0852 | X3: 電話番号 | Z3: 027-251-1220 | AE3: 同意欄 ※自署又は押印
R4: 前橋市総社町総社2326-2
A5: 貸し手 権利を設定する者(Ｂ) | E5: 氏名又は名称 | H5: 城沼 太郎 | P5: 住所 | R5: 〒374-0000 | X5: 電話番号 | Z5: 000-0000-0000 | AE5: 同意欄 ※自署又は押印
R6: 館林市つつじ町1234
A8: 権利対象の土地（Ｃ） | J8: （Ａ）に設定する権利の内容（Ｄ） | M8: （Ａ）から転貸される権利の内容（Ｅ） | P8: （Ｄ）及び（Ｅ）の共通事項（Ｆ） | AB8: 借賃の 支払の 相手方 (G) | AD8: 借賃の支払 方法（H） いずれかに〇 | AG8: 備考
A9: 所在 | G9: 現況 地目 | H9: 面積 （㎡） | J9: 中間管理権を 設定する者 | M9: 転貸を 受ける者 | P9: 始期 | R9: 存続期間（終期） いずれかに〇 | T9: 権利の種類 | V9: 利用内容 | X9: 借賃
A10: 大字 | C10: 字 | E10: 地番 | R10: 5年 R13.5.31 | S10: 10年 R18.5.31 | T10: いずれかに〇 | X10: （円） | Z10: いずれかに〇 | AD10: 口座 12月 | AF10: 物納
A11: ●●町 | C11: △△ | E11: 123-1 | G11: 畑 | H11: 500 | J11: 城沼 太郎 | M11: 館林 一郎 | R11: 〇 | T11: 使用 貸借 | U11: 賃貸借 | V11: 普通畑 | X11: 0円 | Z11: 1筆 | AA11: 10a
A12: 〃 | C12: 〃 | E12: 456-1 | G12: 田 | H12: 1000 | J12: 〃 | M12: 〃 | S12: 〇 | T12: 使用 貸借 | U12: 賃貸借 | V12: 水田 | X12: 米60㎏相当額 | Z12: 1筆 | AA12: 10a | AB12: 城沼 太郎 | AD12: 〇
A13: 〃 | C13: ◆◆ | E13: 222 | G13: 〃 | H13: 991 | J13: 〃 | M13: 〃 | S13: 〇 | T13: 使用 貸借 | U13: 賃貸借 | V13: 〃 | X13: ●●円 | Z13: 1筆 | AA13: 10a | AB13: 城沼 太郎 | AD13: 〇
A14: ■■町 | C14: ◇◇ | E14: 321 | G14: 畑 | H14: 600 | J14: 〃 | M14: 城町 次郎 | R14: 〇 | T14: 使用 貸借 | U14: 賃貸借 | V14: 陸田 | X14: ●●円 | Z14: 1筆 | AA14: 10a | AB14: 城沼 太郎 | AF14: 〇
A15: ×✖町 | C15: ▲▲ | E15: 111 | G15: 田 | H15: 900 | J15: 〃 | M15: つつじ 三郎 | S15: 〇 | T15: 使用 貸借 | U15: 賃貸借 | V15: 水田 | X15: 米●●㎏ | Z15: 1筆 | AA15: 10a | AB15: 城沼 太郎 | AF15: 〇
T16: 使用 貸借 | U16: 賃貸借 | Z16: 1筆 | AA16: 10a
T17: 使用 貸借 | U17: 賃貸借 | Z17: 1筆 | AA17: 10a
A19: 中間管理権を設定する土地における（Ｂ）以外の権原者
A20: 住所 | G20: 氏名又は名称 | K20: 権限の種類 | M20: 同意欄 | O20: 備考
A21: つつじ町1111 | G21: 城沼 花子 | K21: 所有権
B64: 別表１ 修繕費及び改良費の負担に係る特約事項 | S64: 別表２
B65: 改良費又は 改良工事 | D65: 機構及び農地耕作者並びに 土地所有者の費用に関する 支払い区分の内容 | I65: 機構及び農地耕作者の 支払額について土地所有者が 償還すべき額及び方法 | N65: 備考 | S65: 賦課金等の種類 | X65: 負担区分の内容 | AE65: 備考
B72: 【別紙】
B74: =+IFERROR(IF(VLOOKUP(#REF!,[1]ワークシート!$A$2:$CI$1002,22,0)="","",VLOOKUP(#REF!,[1]ワークシート!$A$2:$CI$1002,22,0)),"") | K74: =+IFERROR(IF(VLOOKUP(#REF!,[1]ワークシート!$A$2:$CI$1002,24,0)="","",VLOOKUP(#REF!,[1]ワークシート!$A$2:$CI$1002,24,0)),"")
A76: 権利対象の土地（Ｃ） | J76: （Ａ）に設定する権利の内容（Ｄ） | M76: （Ａ）から転貸される権利の内容（Ｅ） | P76: （Ｄ）及び（Ｅ）の共通事項（Ｆ） | AB76: 借賃の支払の相手方 (G) | AE76: 借賃の 支払方法 （H） | AG76: 備考
A77: 所在 | G77: 現況 地目 | H77: 面積 （㎡） | J77: 中間管理権を 設定する者 | M77: 転貸を 受ける者 | P77: 始期 | R77: 存続期間 （終期） | T77: 権利の 種類 | V77: 利用内容 | X77: 借賃 （円）
A78: 大字 | C78: 字 | E78: 地番
A79: =+IFERROR(IF(VLOOKUP(#REF!&"-"&ROW()-92,[1]ワークシート!$C$2:$CI$1002,9,0)="","",VLOOKUP(#REF!&"-"&ROW()-92,[1]ワークシート!$C$2:$CI$1002,9,0)),"") | C79: =+IFERROR(IF(VLOOKUP(#REF!&"-"&ROW()-92,[1]ワークシート!$C$2:$CI$1002,10,0) = "","",VLOOKUP(#REF!&"-"&ROW()-92,[1]ワークシート!$C$2:$CI$1002,10,0)),"") | E79: =+IFERROR(IF(VLOOKUP(#REF!&"-"&ROW()-92,[1]ワークシート!$C$2:$CI$1002,11,0)="","",VLOOKUP(#REF!&"-"&ROW()-92,[1]ワークシート!$C$2:$CI$1002,11,0)),"") | G79: =+IFERROR(IF(VLOOKUP(#REF!&"-"&ROW()-92,[1]ワークシート!$C$2:$CI$1002,12,0)="","",VLOOKUP(#REF!&"-"&ROW()-92,[1]ワークシート!$C$2:$CI$1002,12,0)),"") | H79: =IFERROR(IF(VLOOKUP(#REF!&"-"&ROW()-92,[1]ワークシート!$C$2:$CI$1002,15,0)="","",IF(VLOOKUP(#REF!&"-"&ROW()-92,[1]ワークシート!$C$2:$CI$1002,15,0)= VLOOKUP(#REF!&"-"&ROW()-92,[1]ワークシート!$C$2:$CI$1002,14,0),VLOOKUP(#REF!&"-"&ROW()-92,[1]ワークシート!$C$2:$CI$1002,15,0),VLOOKUP(#REF!&"-"&ROW()-92, [1]ワークシート!$C$2:$CI$1002,14,0) & "㎡の 内" & VLOOKUP(#REF!&"-"&ROW()-92,[1]ワークシート!$C$2:$CI$1002,15,0)&"㎡")),"") | J79: =+IFERROR(IF(VLOOKUP(#REF!&"-"&ROW()-92,[1]ワークシート!$C$2:$CI$1002,20,0)="","",VLOOKUP(#REF!&"-"&ROW()-92,[1]ワークシート!$C$2:$CI$1002,20,0)),"") | M79: =+IFERROR(IF(VLOOKUP(#REF!&"-"&ROW()-92,[1]ワークシート!$C$2:$CI$1002,61,0)="","",VLOOKUP(#REF!&"-"&ROW()-92,[1]ワークシート!$C$2:$CI$1002,61,0)),"") | P79: =+IFERROR(VLOOKUP(#REF!&"-"&ROW()-92,[1]ワークシート!$C$2:$CI$1002,26,0),"") | R79: =+IFERROR(VLOOKUP(#REF!&"-"&ROW()-92,[1]ワークシート!$C$2:$CI$1002,27,0),"") | T79: =IFERROR(IF(VLOOKUP(#REF!&"-"&ROW()-92,[1]ワークシート!$C$2:$CI$1002,31,0)="",IF(X79="","",IF(X79=0,"使用貸借権","賃借権")),"賃借権"),"") | V79: =+IFERROR(IF(VLOOKUP(#REF!&"-"&ROW()-92,[1]ワークシート!$C$2:$CI$1002,13,0)="","",VLOOKUP(#REF!&"-"&ROW()-92,[1]ワークシート!$C$2:$CI$1002,13,0)),"") | X79: =+IFERROR(IF(VLOOKUP(#REF!&"-"&ROW()-92,[1]ワークシート!$C$2:$CI$1002,31,0)="",VLOOKUP(#REF!&"-"&ROW()-92,[1]ワークシート!$C$2:$CI$1002,33,0),IF(VLOOKUP(#REF!&"-"&ROW()-92,[1]ワークシート!$C$2:$CI$1002,31,0)="物納（米）",VLOOKUP(#REF!&"-"&ROW()-92,[1]ワークシート!$C$2:$CI$1002,35,0)&"kg",IF(VLOOKUP(#REF!&"-"&ROW()-92,[1]ワークシート!$C$2:$CI$1002,31,0)="物納（現金）",VLOOKUP(#REF!&"-"&ROW()-92,[1]ワークシート!$C$2:$CI$1002,36,0)&"円",""))),"") | AB79: =IF(T79="使用貸借権","-",+IFERROR(VLOOKUP(#REF!&"-"&ROW()-92,[1]ワークシート!$C$2:$CI$1002,34,0)&"","")) | AE79: =IF(T79="","",IF(VLOOKUP(#REF!&"-"&ROW()-92,[1]ワークシート!$C$2:$CI$1002,31,0)="",IF(T79="使用貸借権","-","口座振込 １２月"),"物納")) | AG79: =IFERROR(IF(VLOOKUP(#REF!&"-"&ROW()-92,[1]ワークシート!$C$2:$CI$1002,37,0)="","",VLOOKUP(#REF!&"-"&ROW()-92,[1]ワークシート!$C$2:$CI$1002,37,0)),"")
A80: =+IFERROR(IF(VLOOKUP(#REF!&"-"&ROW()-92,[1]ワークシート!$C$2:$CI$1002,9,0)="","",VLOOKUP(#REF!&"-"&ROW()-92,[1]ワークシート!$C$2:$CI$1002,9,0)),"") | C80: =+IFERROR(IF(VLOOKUP(#REF!&"-"&ROW()-92,[1]ワークシート!$C$2:$CI$1002,10,0) = "","",VLOOKUP(#REF!&"-"&ROW()-92,[1]ワークシート!$C$2:$CI$1002,10,0)),"") | E80: =+IFERROR(IF(VLOOKUP(#REF!&"-"&ROW()-92,[1]ワークシート!$C$2:$CI$1002,11,0)="","",VLOOKUP(#REF!&"-"&ROW()-92,[1]ワークシート!$C$2:$CI$1002,11,0)),"") | G80: =+IFERROR(IF(VLOOKUP(#REF!&"-"&ROW()-92,[1]ワークシート!$C$2:$CI$1002,12,0)="","",VLOOKUP(#REF!&"-"&ROW()-92,[1]ワークシート!$C$2:$CI$1002,12,0)),"") | H80: =IFERROR(IF(VLOOKUP(#REF!&"-"&ROW()-92,[1]ワークシート!$C$2:$CI$1002,15,0)="","",IF(VLOOKUP(#REF!&"-"&ROW()-92,[1]ワークシート!$C$2:$CI$1002,15,0)= VLOOKUP(#REF!&"-"&ROW()-92,[1]ワークシート!$C$2:$CI$1002,14,0),VLOOKUP(#REF!&"-"&ROW()-92,[1]ワークシート!$C$2:$CI$1002,15,0),VLOOKUP(#REF!&"-"&ROW()-92, [1]ワークシート!$C$2:$CI$1002,14,0) & "㎡の 内" & VLOOKUP(#REF!&"-"&ROW()-92,[1]ワークシート!$C$2:$CI$1002,15,0)&"㎡")),"") | J80: =+IFERROR(IF(VLOOKUP(#REF!&"-"&ROW()-92,[1]ワークシート!$C$2:$CI$1002,20,0)="","",VLOOKUP(#REF!&"-"&ROW()-92,[1]ワークシート!$C$2:$CI$1002,20,0)),"") | M80: =+IFERROR(IF(VLOOKUP(#REF!&"-"&ROW()-92,[1]ワークシート!$C$2:$CI$1002,61,0)="","",VLOOKUP(#REF!&"-"&ROW()-92,[1]ワークシート!$C$2:$CI$1002,61,0)),"") | P80: =+IFERROR(VLOOKUP(#REF!&"-"&ROW()-92,[1]ワークシート!$C$2:$CI$1002,26,0),"") | R80: =+IFERROR(VLOOKUP(#REF!&"-"&ROW()-92,[1]ワークシート!$C$2:$CI$1002,27,0),"") | T80: =IFERROR(IF(VLOOKUP(#REF!&"-"&ROW()-92,[1]ワークシート!$C$2:$CI$1002,31,0)="",IF(X80="","",IF(X80=0,"使用貸借権","賃借権")),"賃借権"),"") | V80: =+IFERROR(IF(VLOOKUP(#REF!&"-"&ROW()-92,[1]ワークシート!$C$2:$CI$1002,13,0)="","",VLOOKUP(#REF!&"-"&ROW()-92,[1]ワークシート!$C$2:$CI$1002,13,0)),"") | X80: =+IFERROR(IF(VLOOKUP(#REF!&"-"&ROW()-92,[1]ワークシート!$C$2:$CI$1002,31,0)="",VLOOKUP(#REF!&"-"&ROW()-92,[1]ワークシート!$C$2:$CI$1002,33,0),IF(VLOOKUP(#REF!&"-"&ROW()-92,[1]ワークシート!$C$2:$CI$1002,31,0)="物納（米）",VLOOKUP(#REF!&"-"&ROW()-92,[1]ワークシート!$C$2:$CI$1002,35,0)&"kg",IF(VLOOKUP(#REF!&"-"&ROW()-92,[1]ワークシート!$C$2:$CI$1002,31,0)="物納（現金）",VLOOKUP(#REF!&"-"&ROW()-92,[1]ワークシート!$C$2:$CI$1002,36,0)&"円",""))),"") | AB80: =IF(T80="使用貸借権","-",+IFERROR(VLOOKUP(#REF!&"-"&ROW()-92,[1]ワークシート!$C$2:$CI$1002,34,0)&"","")) | AE80: =IF(T80="","",IF(VLOOKUP(#REF!&"-"&ROW()-92,[1]ワークシート!$C$2:$CI$1002,31,0)="",IF(T80="使用貸借権","-","口座振込 １２月"),"物納")) | AG80: =IFERROR(IF(VLOOKUP(#REF!&"-"&ROW()-92,[1]ワークシート!$C$2:$CI$1002,37,0)="","",VLOOKUP(#REF!&"-"&ROW()-92,[1]ワークシート!$C$2:$CI$1002,37,0)),"")
A81: =+IFERROR(IF(VLOOKUP(#REF!&"-"&ROW()-92,[1]ワークシート!$C$2:$CI$1002,9,0)="","",VLOOKUP(#REF!&"-"&ROW()-92,[1]ワークシート!$C$2:$CI$1002,9,0)),"") | C81: =+IFERROR(IF(VLOOKUP(#REF!&"-"&ROW()-92,[1]ワークシート!$C$2:$CI$1002,10,0) = "","",VLOOKUP(#REF!&"-"&ROW()-92,[1]ワークシート!$C$2:$CI$1002,10,0)),"") | E81: =+IFERROR(IF(VLOOKUP(#REF!&"-"&ROW()-92,[1]ワークシート!$C$2:$CI$1002,11,0)="","",VLOOKUP(#REF!&"-"&ROW()-92,[1]ワークシート!$C$2:$CI$1002,11,0)),"") | G81: =+IFERROR(IF(VLOOKUP(#REF!&"-"&ROW()-92,[1]ワークシート!$C$2:$CI$1002,12,0)="","",VLOOKUP(#REF!&"-"&ROW()-92,[1]ワークシート!$C$2:$CI$1002,12,0)),"") | H81: =IFERROR(IF(VLOOKUP(#REF!&"-"&ROW()-92,[1]ワークシート!$C$2:$CI$1002,15,0)="","",IF(VLOOKUP(#REF!&"-"&ROW()-92,[1]ワークシート!$C$2:$CI$1002,15,0)= VLOOKUP(#REF!&"-"&ROW()-92,[1]ワークシート!$C$2:$CI$1002,14,0),VLOOKUP(#REF!&"-"&ROW()-92,[1]ワークシート!$C$2:$CI$1002,15,0),VLOOKUP(#REF!&"-"&ROW()-92, [1]ワークシート!$C$2:$CI$1002,14,0) & "㎡の 内" & VLOOKUP(#REF!&"-"&ROW()-92,[1]ワークシート!$C$2:$CI$1002,15,0)&"㎡")),"") | J81: =+IFERROR(IF(VLOOKUP(#REF!&"-"&ROW()-92,[1]ワークシート!$C$2:$CI$1002,20,0)="","",VLOOKUP(#REF!&"-"&ROW()-92,[1]ワークシート!$C$2:$CI$1002,20,0)),"") | M81: =+IFERROR(IF(VLOOKUP(#REF!&"-"&ROW()-92,[1]ワークシート!$C$2:$CI$1002,61,0)="","",VLOOKUP(#REF!&"-"&ROW()-92,[1]ワークシート!$C$2:$CI$1002,61,0)),"") | P81: =+IFERROR(VLOOKUP(#REF!&"-"&ROW()-92,[1]ワークシート!$C$2:$CI$1002,26,0),"") | R81: =+IFERROR(VLOOKUP(#REF!&"-"&ROW()-92,[1]ワークシート!$C$2:$CI$1002,27,0),"") | T81: =IFERROR(IF(VLOOKUP(#REF!&"-"&ROW()-92,[1]ワークシート!$C$2:$CI$1002,31,0)="",IF(X81="","",IF(X81=0,"使用貸借権","賃借権")),"賃借権"),"") | V81: =+IFERROR(IF(VLOOKUP(#REF!&"-"&ROW()-92,[1]ワークシート!$C$2:$CI$1002,13,0)="","",VLOOKUP(#REF!&"-"&ROW()-92,[1]ワークシート!$C$2:$CI$1002,13,0)),"") | X81: =+IFERROR(IF(VLOOKUP(#REF!&"-"&ROW()-92,[1]ワークシート!$C$2:$CI$1002,31,0)="",VLOOKUP(#REF!&"-"&ROW()-92,[1]ワークシート!$C$2:$CI$1002,33,0),IF(VLOOKUP(#REF!&"-"&ROW()-92,[1]ワークシート!$C$2:$CI$1002,31,0)="物納（米）",VLOOKUP(#REF!&"-"&ROW()-92,[1]ワークシート!$C$2:$CI$1002,35,0)&"kg",IF(VLOOKUP(#REF!&"-"&ROW()-92,[1]ワークシート!$C$2:$CI$1002,31,0)="物納（現金）",VLOOKUP(#REF!&"-"&ROW()-92,[1]ワークシート!$C$2:$CI$1002,36,0)&"円",""))),"") | AB81: =IF(T81="使用貸借権","-",+IFERROR(VLOOKUP(#REF!&"-"&ROW()-92,[1]ワークシート!$C$2:$CI$1002,34,0)&"","")) | AE81: =IF(T81="","",IF(VLOOKUP(#REF!&"-"&ROW()-92,[1]ワークシート!$C$2:$CI$1002,31,0)="",IF(T81="使用貸借権","-","口座振込 １２月"),"物納")) | AG81: =IFERROR(IF(VLOOKUP(#REF!&"-"&ROW()-92,[1]ワークシート!$C$2:$CI$1002,37,0)="","",VLOOKUP(#REF!&"-"&ROW()-92,[1]ワークシート!$C$2:$CI$1002,37,0)),"")
A82: =+IFERROR(IF(VLOOKUP(#REF!&"-"&ROW()-92,[1]ワークシート!$C$2:$CI$1002,9,0)="","",VLOOKUP(#REF!&"-"&ROW()-92,[1]ワークシート!$C$2:$CI$1002,9,0)),"") | C82: =+IFERROR(IF(VLOOKUP(#REF!&"-"&ROW()-92,[1]ワークシート!$C$2:$CI$1002,10,0) = "","",VLOOKUP(#REF!&"-"&ROW()-92,[1]ワークシート!$C$2:$CI$1002,10,0)),"") | E82: =+IFERROR(IF(VLOOKUP(#REF!&"-"&ROW()-92,[1]ワークシート!$C$2:$CI$1002,11,0)="","",VLOOKUP(#REF!&"-"&ROW()-92,[1]ワークシート!$C$2:$CI$1002,11,0)),"") | G82: =+IFERROR(IF(VLOOKUP(#REF!&"-"&ROW()-92,[1]ワークシート!$C$2:$CI$1002,12,0)="","",VLOOKUP(#REF!&"-"&ROW()-92,[1]ワークシート!$C$2:$CI$1002,12,0)),"") | H82: =IFERROR(IF(VLOOKUP(#REF!&"-"&ROW()-92,[1]ワークシート!$C$2:$CI$1002,15,0)="","",IF(VLOOKUP(#REF!&"-"&ROW()-92,[1]ワークシート!$C$2:$CI$1002,15,0)= VLOOKUP(#REF!&"-"&ROW()-92,[1]ワークシート!$C$2:$CI$1002,14,0),VLOOKUP(#REF!&"-"&ROW()-92,[1]ワークシート!$C$2:$CI$1002,15,0),VLOOKUP(#REF!&"-"&ROW()-92, [1]ワークシート!$C$2:$CI$1002,14,0) & "㎡の 内" & VLOOKUP(#REF!&"-"&ROW()-92,[1]ワークシート!$C$2:$CI$1002,15,0)&"㎡")),"") | J82: =+IFERROR(IF(VLOOKUP(#REF!&"-"&ROW()-92,[1]ワークシート!$C$2:$CI$1002,20,0)="","",VLOOKUP(#REF!&"-"&ROW()-92,[1]ワークシート!$C$2:$CI$1002,20,0)),"") | M82: =+IFERROR(IF(VLOOKUP(#REF!&"-"&ROW()-92,[1]ワークシート!$C$2:$CI$1002,61,0)="","",VLOOKUP(#REF!&"-"&ROW()-92,[1]ワークシート!$C$2:$CI$1002,61,0)),"") | P82: =+IFERROR(VLOOKUP(#REF!&"-"&ROW()-92,[1]ワークシート!$C$2:$CI$1002,26,0),"") | R82: =+IFERROR(VLOOKUP(#REF!&"-"&ROW()-92,[1]ワークシート!$C$2:$CI$1002,27,0),"") | T82: =IFERROR(IF(VLOOKUP(#REF!&"-"&ROW()-92,[1]ワークシート!$C$2:$CI$1002,31,0)="",IF(X82="","",IF(X82=0,"使用貸借権","賃借権")),"賃借権"),"") | V82: =+IFERROR(IF(VLOOKUP(#REF!&"-"&ROW()-92,[1]ワークシート!$C$2:$CI$1002,13,0)="","",VLOOKUP(#REF!&"-"&ROW()-92,[1]ワークシート!$C$2:$CI$1002,13,0)),"") | X82: =+IFERROR(IF(VLOOKUP(#REF!&"-"&ROW()-92,[1]ワークシート!$C$2:$CI$1002,31,0)="",VLOOKUP(#REF!&"-"&ROW()-92,[1]ワークシート!$C$2:$CI$1002,33,0),IF(VLOOKUP(#REF!&"-"&ROW()-92,[1]ワークシート!$C$2:$CI$1002,31,0)="物納（米）",VLOOKUP(#REF!&"-"&ROW()-92,[1]ワークシート!$C$2:$CI$1002,35,0)&"kg",IF(VLOOKUP(#REF!&"-"&ROW()-92,[1]ワークシート!$C$2:$CI$1002,31,0)="物納（現金）",VLOOKUP(#REF!&"-"&ROW()-92,[1]ワークシート!$C$2:$CI$1002,36,0)&"円",""))),"") | AB82: =IF(T82="使用貸借権","-",+IFERROR(VLOOKUP(#REF!&"-"&ROW()-92,[1]ワークシート!$C$2:$CI$1002,34,0)&"","")) | AE82: =IF(T82="","",IF(VLOOKUP(#REF!&"-"&ROW()-92,[1]ワークシート!$C$2:$CI$1002,31,0)="",IF(T82="使用貸借権","-","口座振込 １２月"),"物納")) | AG82: =IFERROR(IF(VLOOKUP(#REF!&"-"&ROW()-92,[1]ワークシート!$C$2:$CI$1002,37,0)="","",VLOOKUP(#REF!&"-"&ROW()-92,[1]ワークシート!$C$2:$CI$1002,37,0)),"")
A83: =+IFERROR(IF(VLOOKUP(#REF!&"-"&ROW()-92,[1]ワークシート!$C$2:$CI$1002,9,0)="","",VLOOKUP(#REF!&"-"&ROW()-92,[1]ワークシート!$C$2:$CI$1002,9,0)),"") | C83: =+IFERROR(IF(VLOOKUP(#REF!&"-"&ROW()-92,[1]ワークシート!$C$2:$CI$1002,10,0) = "","",VLOOKUP(#REF!&"-"&ROW()-92,[1]ワークシート!$C$2:$CI$1002,10,0)),"") | E83: =+IFERROR(IF(VLOOKUP(#REF!&"-"&ROW()-92,[1]ワークシート!$C$2:$CI$1002,11,0)="","",VLOOKUP(#REF!&"-"&ROW()-92,[1]ワークシート!$C$2:$CI$1002,11,0)),"") | G83: =+IFERROR(IF(VLOOKUP(#REF!&"-"&ROW()-92,[1]ワークシート!$C$2:$CI$1002,12,0)="","",VLOOKUP(#REF!&"-"&ROW()-92,[1]ワークシート!$C$2:$CI$1002,12,0)),"") | H83: =IFERROR(IF(VLOOKUP(#REF!&"-"&ROW()-92,[1]ワークシート!$C$2:$CI$1002,15,0)="","",IF(VLOOKUP(#REF!&"-"&ROW()-92,[1]ワークシート!$C$2:$CI$1002,15,0)= VLOOKUP(#REF!&"-"&ROW()-92,[1]ワークシート!$C$2:$CI$1002,14,0),VLOOKUP(#REF!&"-"&ROW()-92,[1]ワークシート!$C$2:$CI$1002,15,0),VLOOKUP(#REF!&"-"&ROW()-92, [1]ワークシート!$C$2:$CI$1002,14,0) & "㎡の 内" & VLOOKUP(#REF!&"-"&ROW()-92,[1]ワークシート!$C$2:$CI$1002,15,0)&"㎡")),"") | J83: =+IFERROR(IF(VLOOKUP(#REF!&"-"&ROW()-92,[1]ワークシート!$C$2:$CI$1002,20,0)="","",VLOOKUP(#REF!&"-"&ROW()-92,[1]ワークシート!$C$2:$CI$1002,20,0)),"") | M83: =+IFERROR(IF(VLOOKUP(#REF!&"-"&ROW()-92,[1]ワークシート!$C$2:$CI$1002,61,0)="","",VLOOKUP(#REF!&"-"&ROW()-92,[1]ワークシート!$C$2:$CI$1002,61,0)),"") | P83: =+IFERROR(VLOOKUP(#REF!&"-"&ROW()-92,[1]ワークシート!$C$2:$CI$1002,26,0),"") | R83: =+IFERROR(VLOOKUP(#REF!&"-"&ROW()-92,[1]ワークシート!$C$2:$CI$1002,27,0),"") | T83: =IFERROR(IF(VLOOKUP(#REF!&"-"&ROW()-92,[1]ワークシート!$C$2:$CI$1002,31,0)="",IF(X83="","",IF(X83=0,"使用貸借権","賃借権")),"賃借権"),"") | V83: =+IFERROR(IF(VLOOKUP(#REF!&"-"&ROW()-92,[1]ワークシート!$C$2:$CI$1002,13,0)="","",VLOOKUP(#REF!&"-"&ROW()-92,[1]ワークシート!$C$2:$CI$1002,13,0)),"") | X83: =+IFERROR(IF(VLOOKUP(#REF!&"-"&ROW()-92,[1]ワークシート!$C$2:$CI$1002,31,0)="",VLOOKUP(#REF!&"-"&ROW()-92,[1]ワークシート!$C$2:$CI$1002,33,0),IF(VLOOKUP(#REF!&"-"&ROW()-92,[1]ワークシート!$C$2:$CI$1002,31,0)="物納（米）",VLOOKUP(#REF!&"-"&ROW()-92,[1]ワークシート!$C$2:$CI$1002,35,0)&"kg",IF(VLOOKUP(#REF!&"-"&ROW()-92,[1]ワークシート!$C$2:$CI$1002,31,0)="物納（現金）",VLOOKUP(#REF!&"-"&ROW()-92,[1]ワークシート!$C$2:$CI$1002,36,0)&"円",""))),"") | AB83: =IF(T83="使用貸借権","-",+IFERROR(VLOOKUP(#REF!&"-"&ROW()-92,[1]ワークシート!$C$2:$CI$1002,34,0)&"","")) | AE83: =IF(T83="","",IF(VLOOKUP(#REF!&"-"&ROW()-92,[1]ワークシート!$C$2:$CI$1002,31,0)="",IF(T83="使用貸借権","-","口座振込 １２月"),"物納")) | AG83: =IFERROR(IF(VLOOKUP(#REF!&"-"&ROW()-92,[1]ワークシート!$C$2:$CI$1002,37,0)="","",VLOOKUP(#REF!&"-"&ROW()-92,[1]ワークシート!$C$2:$CI$1002,37,0)),"")
A84: =+IFERROR(IF(VLOOKUP(#REF!&"-"&ROW()-92,[1]ワークシート!$C$2:$CI$1002,9,0)="","",VLOOKUP(#REF!&"-"&ROW()-92,[1]ワークシート!$C$2:$CI$1002,9,0)),"") | C84: =+IFERROR(IF(VLOOKUP(#REF!&"-"&ROW()-92,[1]ワークシート!$C$2:$CI$1002,10,0) = "","",VLOOKUP(#REF!&"-"&ROW()-92,[1]ワークシート!$C$2:$CI$1002,10,0)),"") | E84: =+IFERROR(IF(VLOOKUP(#REF!&"-"&ROW()-92,[1]ワークシート!$C$2:$CI$1002,11,0)="","",VLOOKUP(#REF!&"-"&ROW()-92,[1]ワークシート!$C$2:$CI$1002,11,0)),"") | G84: =+IFERROR(IF(VLOOKUP(#REF!&"-"&ROW()-92,[1]ワークシート!$C$2:$CI$1002,12,0)="","",VLOOKUP(#REF!&"-"&ROW()-92,[1]ワークシート!$C$2:$CI$1002,12,0)),"") | H84: =IFERROR(IF(VLOOKUP(#REF!&"-"&ROW()-92,[1]ワークシート!$C$2:$CI$1002,15,0)="","",IF(VLOOKUP(#REF!&"-"&ROW()-92,[1]ワークシート!$C$2:$CI$1002,15,0)= VLOOKUP(#REF!&"-"&ROW()-92,[1]ワークシート!$C$2:$CI$1002,14,0),VLOOKUP(#REF!&"-"&ROW()-92,[1]ワークシート!$C$2:$CI$1002,15,0),VLOOKUP(#REF!&"-"&ROW()-92, [1]ワークシート!$C$2:$CI$1002,14,0) & "㎡の 内" & VLOOKUP(#REF!&"-"&ROW()-92,[1]ワークシート!$C$2:$CI$1002,15,0)&"㎡")),"") | J84: =+IFERROR(IF(VLOOKUP(#REF!&"-"&ROW()-92,[1]ワークシート!$C$2:$CI$1002,20,0)="","",VLOOKUP(#REF!&"-"&ROW()-92,[1]ワークシート!$C$2:$CI$1002,20,0)),"") | M84: =+IFERROR(IF(VLOOKUP(#REF!&"-"&ROW()-92,[1]ワークシート!$C$2:$CI$1002,61,0)="","",VLOOKUP(#REF!&"-"&ROW()-92,[1]ワークシート!$C$2:$CI$1002,61,0)),"") | P84: =+IFERROR(VLOOKUP(#REF!&"-"&ROW()-92,[1]ワークシート!$C$2:$CI$1002,26,0),"") | R84: =+IFERROR(VLOOKUP(#REF!&"-"&ROW()-92,[1]ワークシート!$C$2:$CI$1002,27,0),"") | T84: =IFERROR(IF(VLOOKUP(#REF!&"-"&ROW()-92,[1]ワークシート!$C$2:$CI$1002,31,0)="",IF(X84="","",IF(X84=0,"使用貸借権","賃借権")),"賃借権"),"") | V84: =+IFERROR(IF(VLOOKUP(#REF!&"-"&ROW()-92,[1]ワークシート!$C$2:$CI$1002,13,0)="","",VLOOKUP(#REF!&"-"&ROW()-92,[1]ワークシート!$C$2:$CI$1002,13,0)),"") | X84: =+IFERROR(IF(VLOOKUP(#REF!&"-"&ROW()-92,[1]ワークシート!$C$2:$CI$1002,31,0)="",VLOOKUP(#REF!&"-"&ROW()-92,[1]ワークシート!$C$2:$CI$1002,33,0),IF(VLOOKUP(#REF!&"-"&ROW()-92,[1]ワークシート!$C$2:$CI$1002,31,0)="物納（米）",VLOOKUP(#REF!&"-"&ROW()-92,[1]ワークシート!$C$2:$CI$1002,35,0)&"kg",IF(VLOOKUP(#REF!&"-"&ROW()-92,[1]ワークシート!$C$2:$CI$1002,31,0)="物納（現金）",VLOOKUP(#REF!&"-"&ROW()-92,[1]ワークシート!$C$2:$CI$1002,36,0)&"円",""))),"") | AB84: =IF(T84="使用貸借権","-",+IFERROR(VLOOKUP(#REF!&"-"&ROW()-92,[1]ワークシート!$C$2:$CI$1002,34,0)&"","")) | AE84: =IF(T84="","",IF(VLOOKUP(#REF!&"-"&ROW()-92,[1]ワークシート!$C$2:$CI$1002,31,0)="",IF(T84="使用貸借権","-","口座振込 １２月"),"物納")) | AG84: =IFERROR(IF(VLOOKUP(#REF!&"-"&ROW()-92,[1]ワークシート!$C$2:$CI$1002,37,0)="","",VLOOKUP(#REF!&"-"&ROW()-92,[1]ワークシート!$C$2:$CI$1002,37,0)),"")
A85: =+IFERROR(IF(VLOOKUP(#REF!&"-"&ROW()-92,[1]ワークシート!$C$2:$CI$1002,9,0)="","",VLOOKUP(#REF!&"-"&ROW()-92,[1]ワークシート!$C$2:$CI$1002,9,0)),"") | C85: =+IFERROR(IF(VLOOKUP(#REF!&"-"&ROW()-92,[1]ワークシート!$C$2:$CI$1002,10,0) = "","",VLOOKUP(#REF!&"-"&ROW()-92,[1]ワークシート!$C$2:$CI$1002,10,0)),"") | E85: =+IFERROR(IF(VLOOKUP(#REF!&"-"&ROW()-92,[1]ワークシート!$C$2:$CI$1002,11,0)="","",VLOOKUP(#REF!&"-"&ROW()-92,[1]ワークシート!$C$2:$CI$1002,11,0)),"") | G85: =+IFERROR(IF(VLOOKUP(#REF!&"-"&ROW()-92,[1]ワークシート!$C$2:$CI$1002,12,0)="","",VLOOKUP(#REF!&"-"&ROW()-92,[1]ワークシート!$C$2:$CI$1002,12,0)),"") | H85: =IFERROR(IF(VLOOKUP(#REF!&"-"&ROW()-92,[1]ワークシート!$C$2:$CI$1002,15,0)="","",IF(VLOOKUP(#REF!&"-"&ROW()-92,[1]ワークシート!$C$2:$CI$1002,15,0)= VLOOKUP(#REF!&"-"&ROW()-92,[1]ワークシート!$C$2:$CI$1002,14,0),VLOOKUP(#REF!&"-"&ROW()-92,[1]ワークシート!$C$2:$CI$1002,15,0),VLOOKUP(#REF!&"-"&ROW()-92, [1]ワークシート!$C$2:$CI$1002,14,0) & "㎡の 内" & VLOOKUP(#REF!&"-"&ROW()-92,[1]ワークシート!$C$2:$CI$1002,15,0)&"㎡")),"") | J85: =+IFERROR(IF(VLOOKUP(#REF!&"-"&ROW()-92,[1]ワークシート!$C$2:$CI$1002,20,0)="","",VLOOKUP(#REF!&"-"&ROW()-92,[1]ワークシート!$C$2:$CI$1002,20,0)),"") | M85: =+IFERROR(IF(VLOOKUP(#REF!&"-"&ROW()-92,[1]ワークシート!$C$2:$CI$1002,61,0)="","",VLOOKUP(#REF!&"-"&ROW()-92,[1]ワークシート!$C$2:$CI$1002,61,0)),"") | P85: =+IFERROR(VLOOKUP(#REF!&"-"&ROW()-92,[1]ワークシート!$C$2:$CI$1002,26,0),"") | R85: =+IFERROR(VLOOKUP(#REF!&"-"&ROW()-92,[1]ワークシート!$C$2:$CI$1002,27,0),"") | T85: =IFERROR(IF(VLOOKUP(#REF!&"-"&ROW()-92,[1]ワークシート!$C$2:$CI$1002,31,0)="",IF(X85="","",IF(X85=0,"使用貸借権","賃借権")),"賃借権"),"") | V85: =+IFERROR(IF(VLOOKUP(#REF!&"-"&ROW()-92,[1]ワークシート!$C$2:$CI$1002,13,0)="","",VLOOKUP(#REF!&"-"&ROW()-92,[1]ワークシート!$C$2:$CI$1002,13,0)),"") | X85: =+IFERROR(IF(VLOOKUP(#REF!&"-"&ROW()-92,[1]ワークシート!$C$2:$CI$1002,31,0)="",VLOOKUP(#REF!&"-"&ROW()-92,[1]ワークシート!$C$2:$CI$1002,33,0),IF(VLOOKUP(#REF!&"-"&ROW()-92,[1]ワークシート!$C$2:$CI$1002,31,0)="物納（米）",VLOOKUP(#REF!&"-"&ROW()-92,[1]ワークシート!$C$2:$CI$1002,35,0)&"kg",IF(VLOOKUP(#REF!&"-"&ROW()-92,[1]ワークシート!$C$2:$CI$1002,31,0)="物納（現金）",VLOOKUP(#REF!&"-"&ROW()-92,[1]ワークシート!$C$2:$CI$1002,36,0)&"円",""))),"") | AB85: =IF(T85="使用貸借権","-",+IFERROR(VLOOKUP(#REF!&"-"&ROW()-92,[1]ワークシート!$C$2:$CI$1002,34,0)&"","")) | AE85: =IF(T85="","",IF(VLOOKUP(#REF!&"-"&ROW()-92,[1]ワークシート!$C$2:$CI$1002,31,0)="",IF(T85="使用貸借権","-","口座振込 １２月"),"物納")) | AG85: =IFERROR(IF(VLOOKUP(#REF!&"-"&ROW()-92,[1]ワークシート!$C$2:$CI$1002,37,0)="","",VLOOKUP(#REF!&"-"&ROW()-92,[1]ワークシート!$C$2:$CI$1002,37,0)),"")
A86: =+IFERROR(IF(VLOOKUP(#REF!&"-"&ROW()-92,[1]ワークシート!$C$2:$CI$1002,9,0)="","",VLOOKUP(#REF!&"-"&ROW()-92,[1]ワークシート!$C$2:$CI$1002,9,0)),"") | C86: =+IFERROR(IF(VLOOKUP(#REF!&"-"&ROW()-92,[1]ワークシート!$C$2:$CI$1002,10,0) = "","",VLOOKUP(#REF!&"-"&ROW()-92,[1]ワークシート!$C$2:$CI$1002,10,0)),"") | E86: =+IFERROR(IF(VLOOKUP(#REF!&"-"&ROW()-92,[1]ワークシート!$C$2:$CI$1002,11,0)="","",VLOOKUP(#REF!&"-"&ROW()-92,[1]ワークシート!$C$2:$CI$1002,11,0)),"") | G86: =+IFERROR(IF(VLOOKUP(#REF!&"-"&ROW()-92,[1]ワークシート!$C$2:$CI$1002,12,0)="","",VLOOKUP(#REF!&"-"&ROW()-92,[1]ワークシート!$C$2:$CI$1002,12,0)),"") | H86: =IFERROR(IF(VLOOKUP(#REF!&"-"&ROW()-92,[1]ワークシート!$C$2:$CI$1002,15,0)="","",IF(VLOOKUP(#REF!&"-"&ROW()-92,[1]ワークシート!$C$2:$CI$1002,15,0)= VLOOKUP(#REF!&"-"&ROW()-92,[1]ワークシート!$C$2:$CI$1002,14,0),VLOOKUP(#REF!&"-"&ROW()-92,[1]ワークシート!$C$2:$CI$1002,15,0),VLOOKUP(#REF!&"-"&ROW()-92, [1]ワークシート!$C$2:$CI$1002,14,0) & "㎡の 内" & VLOOKUP(#REF!&"-"&ROW()-92,[1]ワークシート!$C$2:$CI$1002,15,0)&"㎡")),"") | J86: =+IFERROR(IF(VLOOKUP(#REF!&"-"&ROW()-92,[1]ワークシート!$C$2:$CI$1002,20,0)="","",VLOOKUP(#REF!&"-"&ROW()-92,[1]ワークシート!$C$2:$CI$1002,20,0)),"") | M86: =+IFERROR(IF(VLOOKUP(#REF!&"-"&ROW()-92,[1]ワークシート!$C$2:$CI$1002,61,0)="","",VLOOKUP(#REF!&"-"&ROW()-92,[1]ワークシート!$C$2:$CI$1002,61,0)),"") | P86: =+IFERROR(VLOOKUP(#REF!&"-"&ROW()-92,[1]ワークシート!$C$2:$CI$1002,26,0),"") | R86: =+IFERROR(VLOOKUP(#REF!&"-"&ROW()-92,[1]ワークシート!$C$2:$CI$1002,27,0),"") | T86: =IFERROR(IF(VLOOKUP(#REF!&"-"&ROW()-92,[1]ワークシート!$C$2:$CI$1002,31,0)="",IF(X86="","",IF(X86=0,"使用貸借権","賃借権")),"賃借権"),"") | V86: =+IFERROR(IF(VLOOKUP(#REF!&"-"&ROW()-92,[1]ワークシート!$C$2:$CI$1002,13,0)="","",VLOOKUP(#REF!&"-"&ROW()-92,[1]ワークシート!$C$2:$CI$1002,13,0)),"") | X86: =+IFERROR(IF(VLOOKUP(#REF!&"-"&ROW()-92,[1]ワークシート!$C$2:$CI$1002,31,0)="",VLOOKUP(#REF!&"-"&ROW()-92,[1]ワークシート!$C$2:$CI$1002,33,0),IF(VLOOKUP(#REF!&"-"&ROW()-92,[1]ワークシート!$C$2:$CI$1002,31,0)="物納（米）",VLOOKUP(#REF!&"-"&ROW()-92,[1]ワークシート!$C$2:$CI$1002,35,0)&"kg",IF(VLOOKUP(#REF!&"-"&ROW()-92,[1]ワークシート!$C$2:$CI$1002,31,0)="物納（現金）",VLOOKUP(#REF!&"-"&ROW()-92,[1]ワークシート!$C$2:$CI$1002,36,0)&"円",""))),"") | AB86: =IF(T86="使用貸借権","-",+IFERROR(VLOOKUP(#REF!&"-"&ROW()-92,[1]ワークシート!$C$2:$CI$1002,34,0)&"","")) | AE86: =IF(T86="","",IF(VLOOKUP(#REF!&"-"&ROW()-92,[1]ワークシート!$C$2:$CI$1002,31,0)="",IF(T86="使用貸借権","-","口座振込 １２月"),"物納")) | AG86: =IFERROR(IF(VLOOKUP(#REF!&"-"&ROW()-92,[1]ワークシート!$C$2:$CI$1002,37,0)="","",VLOOKUP(#REF!&"-"&ROW()-92,[1]ワークシート!$C$2:$CI$1002,37,0)),"")
A87: =+IFERROR(IF(VLOOKUP(#REF!&"-"&ROW()-92,[1]ワークシート!$C$2:$CI$1002,9,0)="","",VLOOKUP(#REF!&"-"&ROW()-92,[1]ワークシート!$C$2:$CI$1002,9,0)),"") | C87: =+IFERROR(IF(VLOOKUP(#REF!&"-"&ROW()-92,[1]ワークシート!$C$2:$CI$1002,10,0) = "","",VLOOKUP(#REF!&"-"&ROW()-92,[1]ワークシート!$C$2:$CI$1002,10,0)),"") | E87: =+IFERROR(IF(VLOOKUP(#REF!&"-"&ROW()-92,[1]ワークシート!$C$2:$CI$1002,11,0)="","",VLOOKUP(#REF!&"-"&ROW()-92,[1]ワークシート!$C$2:$CI$1002,11,0)),"") | G87: =+IFERROR(IF(VLOOKUP(#REF!&"-"&ROW()-92,[1]ワークシート!$C$2:$CI$1002,12,0)="","",VLOOKUP(#REF!&"-"&ROW()-92,[1]ワークシート!$C$2:$CI$1002,12,0)),"") | H87: =IFERROR(IF(VLOOKUP(#REF!&"-"&ROW()-92,[1]ワークシート!$C$2:$CI$1002,15,0)="","",IF(VLOOKUP(#REF!&"-"&ROW()-92,[1]ワークシート!$C$2:$CI$1002,15,0)= VLOOKUP(#REF!&"-"&ROW()-92,[1]ワークシート!$C$2:$CI$1002,14,0),VLOOKUP(#REF!&"-"&ROW()-92,[1]ワークシート!$C$2:$CI$1002,15,0),VLOOKUP(#REF!&"-"&ROW()-92, [1]ワークシート!$C$2:$CI$1002,14,0) & "㎡の 内" & VLOOKUP(#REF!&"-"&ROW()-92,[1]ワークシート!$C$2:$CI$1002,15,0)&"㎡")),"") | J87: =+IFERROR(IF(VLOOKUP(#REF!&"-"&ROW()-92,[1]ワークシート!$C$2:$CI$1002,20,0)="","",VLOOKUP(#REF!&"-"&ROW()-92,[1]ワークシート!$C$2:$CI$1002,20,0)),"") | M87: =+IFERROR(IF(VLOOKUP(#REF!&"-"&ROW()-92,[1]ワークシート!$C$2:$CI$1002,61,0)="","",VLOOKUP(#REF!&"-"&ROW()-92,[1]ワークシート!$C$2:$CI$1002,61,0)),"") | P87: =+IFERROR(VLOOKUP(#REF!&"-"&ROW()-92,[1]ワークシート!$C$2:$CI$1002,26,0),"") | R87: =+IFERROR(VLOOKUP(#REF!&"-"&ROW()-92,[1]ワークシート!$C$2:$CI$1002,27,0),"") | T87: =IFERROR(IF(VLOOKUP(#REF!&"-"&ROW()-92,[1]ワークシート!$C$2:$CI$1002,31,0)="",IF(X87="","",IF(X87=0,"使用貸借権","賃借権")),"賃借権"),"") | V87: =+IFERROR(IF(VLOOKUP(#REF!&"-"&ROW()-92,[1]ワークシート!$C$2:$CI$1002,13,0)="","",VLOOKUP(#REF!&"-"&ROW()-92,[1]ワークシート!$C$2:$CI$1002,13,0)),"") | X87: =+IFERROR(IF(VLOOKUP(#REF!&"-"&ROW()-92,[1]ワークシート!$C$2:$CI$1002,31,0)="",VLOOKUP(#REF!&"-"&ROW()-92,[1]ワークシート!$C$2:$CI$1002,33,0),IF(VLOOKUP(#REF!&"-"&ROW()-92,[1]ワークシート!$C$2:$CI$1002,31,0)="物納（米）",VLOOKUP(#REF!&"-"&ROW()-92,[1]ワークシート!$C$2:$CI$1002,35,0)&"kg",IF(VLOOKUP(#REF!&"-"&ROW()-92,[1]ワークシート!$C$2:$CI$1002,31,0)="物納（現金）",VLOOKUP(#REF!&"-"&ROW()-92,[1]ワークシート!$C$2:$CI$1002,36,0)&"円",""))),"") | AB87: =IF(T87="使用貸借権","-",+IFERROR(VLOOKUP(#REF!&"-"&ROW()-92,[1]ワークシート!$C$2:$CI$1002,34,0)&"","")) | AE87: =IF(T87="","",IF(VLOOKUP(#REF!&"-"&ROW()-92,[1]ワークシート!$C$2:$CI$1002,31,0)="",IF(T87="使用貸借権","-","口座振込 １２月"),"物納")) | AG87: =IFERROR(IF(VLOOKUP(#REF!&"-"&ROW()-92,[1]ワークシート!$C$2:$CI$1002,37,0)="","",VLOOKUP(#REF!&"-"&ROW()-92,[1]ワークシート!$C$2:$CI$1002,37,0)),"")
A88: =+IFERROR(IF(VLOOKUP(#REF!&"-"&ROW()-92,[1]ワークシート!$C$2:$CI$1002,9,0)="","",VLOOKUP(#REF!&"-"&ROW()-92,[1]ワークシート!$C$2:$CI$1002,9,0)),"") | C88: =+IFERROR(IF(VLOOKUP(#REF!&"-"&ROW()-92,[1]ワークシート!$C$2:$CI$1002,10,0) = "","",VLOOKUP(#REF!&"-"&ROW()-92,[1]ワークシート!$C$2:$CI$1002,10,0)),"") | E88: =+IFERROR(IF(VLOOKUP(#REF!&"-"&ROW()-92,[1]ワークシート!$C$2:$CI$1002,11,0)="","",VLOOKUP(#REF!&"-"&ROW()-92,[1]ワークシート!$C$2:$CI$1002,11,0)),"") | G88: =+IFERROR(IF(VLOOKUP(#REF!&"-"&ROW()-92,[1]ワークシート!$C$2:$CI$1002,12,0)="","",VLOOKUP(#REF!&"-"&ROW()-92,[1]ワークシート!$C$2:$CI$1002,12,0)),"") | H88: =IFERROR(IF(VLOOKUP(#REF!&"-"&ROW()-92,[1]ワークシート!$C$2:$CI$1002,15,0)="","",IF(VLOOKUP(#REF!&"-"&ROW()-92,[1]ワークシート!$C$2:$CI$1002,15,0)= VLOOKUP(#REF!&"-"&ROW()-92,[1]ワークシート!$C$2:$CI$1002,14,0),VLOOKUP(#REF!&"-"&ROW()-92,[1]ワークシート!$C$2:$CI$1002,15,0),VLOOKUP(#REF!&"-"&ROW()-92, [1]ワークシート!$C$2:$CI$1002,14,0) & "㎡の 内" & VLOOKUP(#REF!&"-"&ROW()-92,[1]ワークシート!$C$2:$CI$1002,15,0)&"㎡")),"") | J88: =+IFERROR(IF(VLOOKUP(#REF!&"-"&ROW()-92,[1]ワークシート!$C$2:$CI$1002,20,0)="","",VLOOKUP(#REF!&"-"&ROW()-92,[1]ワークシート!$C$2:$CI$1002,20,0)),"") | M88: =+IFERROR(IF(VLOOKUP(#REF!&"-"&ROW()-92,[1]ワークシート!$C$2:$CI$1002,61,0)="","",VLOOKUP(#REF!&"-"&ROW()-92,[1]ワークシート!$C$2:$CI$1002,61,0)),"") | P88: =+IFERROR(VLOOKUP(#REF!&"-"&ROW()-92,[1]ワークシート!$C$2:$CI$1002,26,0),"") | R88: =+IFERROR(VLOOKUP(#REF!&"-"&ROW()-92,[1]ワークシート!$C$2:$CI$1002,27,0),"") | T88: =IFERROR(IF(VLOOKUP(#REF!&"-"&ROW()-92,[1]ワークシート!$C$2:$CI$1002,31,0)="",IF(X88="","",IF(X88=0,"使用貸借権","賃借権")),"賃借権"),"") | V88: =+IFERROR(IF(VLOOKUP(#REF!&"-"&ROW()-92,[1]ワークシート!$C$2:$CI$1002,13,0)="","",VLOOKUP(#REF!&"-"&ROW()-92,[1]ワークシート!$C$2:$CI$1002,13,0)),"") | X88: =+IFERROR(IF(VLOOKUP(#REF!&"-"&ROW()-92,[1]ワークシート!$C$2:$CI$1002,31,0)="",VLOOKUP(#REF!&"-"&ROW()-92,[1]ワークシート!$C$2:$CI$1002,33,0),IF(VLOOKUP(#REF!&"-"&ROW()-92,[1]ワークシート!$C$2:$CI$1002,31,0)="物納（米）",VLOOKUP(#REF!&"-"&ROW()-92,[1]ワークシート!$C$2:$CI$1002,35,0)&"kg",IF(VLOOKUP(#REF!&"-"&ROW()-92,[1]ワークシート!$C$2:$CI$1002,31,0)="物納（現金）",VLOOKUP(#REF!&"-"&ROW()-92,[1]ワークシート!$C$2:$CI$1002,36,0)&"円",""))),"") | AB88: =IF(T88="使用貸借権","-",+IFERROR(VLOOKUP(#REF!&"-"&ROW()-92,[1]ワークシート!$C$2:$CI$1002,34,0)&"","")) | AE88: =IF(T88="","",IF(VLOOKUP(#REF!&"-"&ROW()-92,[1]ワークシート!$C$2:$CI$1002,31,0)="",IF(T88="使用貸借権","-","口座振込 １２月"),"物納")) | AG88: =IFERROR(IF(VLOOKUP(#REF!&"-"&ROW()-92,[1]ワークシート!$C$2:$CI$1002,37,0)="","",VLOOKUP(#REF!&"-"&ROW()-92,[1]ワークシート!$C$2:$CI$1002,37,0)),"")
A89: =+IFERROR(IF(VLOOKUP(#REF!&"-"&ROW()-92,[1]ワークシート!$C$2:$CI$1002,9,0)="","",VLOOKUP(#REF!&"-"&ROW()-92,[1]ワークシート!$C$2:$CI$1002,9,0)),"") | C89: =+IFERROR(IF(VLOOKUP(#REF!&"-"&ROW()-92,[1]ワークシート!$C$2:$CI$1002,10,0) = "","",VLOOKUP(#REF!&"-"&ROW()-92,[1]ワークシート!$C$2:$CI$1002,10,0)),"") | E89: =+IFERROR(IF(VLOOKUP(#REF!&"-"&ROW()-92,[1]ワークシート!$C$2:$CI$1002,11,0)="","",VLOOKUP(#REF!&"-"&ROW()-92,[1]ワークシート!$C$2:$CI$1002,11,0)),"") | G89: =+IFERROR(IF(VLOOKUP(#REF!&"-"&ROW()-92,[1]ワークシート!$C$2:$CI$1002,12,0)="","",VLOOKUP(#REF!&"-"&ROW()-92,[1]ワークシート!$C$2:$CI$1002,12,0)),"") | H89: =IFERROR(IF(VLOOKUP(#REF!&"-"&ROW()-92,[1]ワークシート!$C$2:$CI$1002,15,0)="","",IF(VLOOKUP(#REF!&"-"&ROW()-92,[1]ワークシート!$C$2:$CI$1002,15,0)= VLOOKUP(#REF!&"-"&ROW()-92,[1]ワークシート!$C$2:$CI$1002,14,0),VLOOKUP(#REF!&"-"&ROW()-92,[1]ワークシート!$C$2:$CI$1002,15,0),VLOOKUP(#REF!&"-"&ROW()-92, [1]ワークシート!$C$2:$CI$1002,14,0) & "㎡の 内" & VLOOKUP(#REF!&"-"&ROW()-92,[1]ワークシート!$C$2:$CI$1002,15,0)&"㎡")),"") | J89: =+IFERROR(IF(VLOOKUP(#REF!&"-"&ROW()-92,[1]ワークシート!$C$2:$CI$1002,20,0)="","",VLOOKUP(#REF!&"-"&ROW()-92,[1]ワークシート!$C$2:$CI$1002,20,0)),"") | M89: =+IFERROR(IF(VLOOKUP(#REF!&"-"&ROW()-92,[1]ワークシート!$C$2:$CI$1002,61,0)="","",VLOOKUP(#REF!&"-"&ROW()-92,[1]ワークシート!$C$2:$CI$1002,61,0)),"") | P89: =+IFERROR(VLOOKUP(#REF!&"-"&ROW()-92,[1]ワークシート!$C$2:$CI$1002,26,0),"") | R89: =+IFERROR(VLOOKUP(#REF!&"-"&ROW()-92,[1]ワークシート!$C$2:$CI$1002,27,0),"") | T89: =IFERROR(IF(VLOOKUP(#REF!&"-"&ROW()-92,[1]ワークシート!$C$2:$CI$1002,31,0)="",IF(X89="","",IF(X89=0,"使用貸借権","賃借権")),"賃借権"),"") | V89: =+IFERROR(IF(VLOOKUP(#REF!&"-"&ROW()-92,[1]ワークシート!$C$2:$CI$1002,13,0)="","",VLOOKUP(#REF!&"-"&ROW()-92,[1]ワークシート!$C$2:$CI$1002,13,0)),"") | X89: =+IFERROR(IF(VLOOKUP(#REF!&"-"&ROW()-92,[1]ワークシート!$C$2:$CI$1002,31,0)="",VLOOKUP(#REF!&"-"&ROW()-92,[1]ワークシート!$C$2:$CI$1002,33,0),IF(VLOOKUP(#REF!&"-"&ROW()-92,[1]ワークシート!$C$2:$CI$1002,31,0)="物納（米）",VLOOKUP(#REF!&"-"&ROW()-92,[1]ワークシート!$C$2:$CI$1002,35,0)&"kg",IF(VLOOKUP(#REF!&"-"&ROW()-92,[1]ワークシート!$C$2:$CI$1002,31,0)="物納（現金）",VLOOKUP(#REF!&"-"&ROW()-92,[1]ワークシート!$C$2:$CI$1002,36,0)&"円",""))),"") | AB89: =IF(T89="使用貸借権","-",+IFERROR(VLOOKUP(#REF!&"-"&ROW()-92,[1]ワークシート!$C$2:$CI$1002,34,0)&"","")) | AE89: =IF(T89="","",IF(VLOOKUP(#REF!&"-"&ROW()-92,[1]ワークシート!$C$2:$CI$1002,31,0)="",IF(T89="使用貸借権","-","口座振込 １２月"),"物納")) | AG89: =IFERROR(IF(VLOOKUP(#REF!&"-"&ROW()-92,[1]ワークシート!$C$2:$CI$1002,37,0)="","",VLOOKUP(#REF!&"-"&ROW()-92,[1]ワークシート!$C$2:$CI$1002,37,0)),"")
A90: =+IFERROR(IF(VLOOKUP(#REF!&"-"&ROW()-92,[1]ワークシート!$C$2:$CI$1002,9,0)="","",VLOOKUP(#REF!&"-"&ROW()-92,[1]ワークシート!$C$2:$CI$1002,9,0)),"") | C90: =+IFERROR(IF(VLOOKUP(#REF!&"-"&ROW()-92,[1]ワークシート!$C$2:$CI$1002,10,0) = "","",VLOOKUP(#REF!&"-"&ROW()-92,[1]ワークシート!$C$2:$CI$1002,10,0)),"") | E90: =+IFERROR(IF(VLOOKUP(#REF!&"-"&ROW()-92,[1]ワークシート!$C$2:$CI$1002,11,0)="","",VLOOKUP(#REF!&"-"&ROW()-92,[1]ワークシート!$C$2:$CI$1002,11,0)),"") | G90: =+IFERROR(IF(VLOOKUP(#REF!&"-"&ROW()-92,[1]ワークシート!$C$2:$CI$1002,12,0)="","",VLOOKUP(#REF!&"-"&ROW()-92,[1]ワークシート!$C$2:$CI$1002,12,0)),"") | H90: =IFERROR(IF(VLOOKUP(#REF!&"-"&ROW()-92,[1]ワークシート!$C$2:$CI$1002,15,0)="","",IF(VLOOKUP(#REF!&"-"&ROW()-92,[1]ワークシート!$C$2:$CI$1002,15,0)= VLOOKUP(#REF!&"-"&ROW()-92,[1]ワークシート!$C$2:$CI$1002,14,0),VLOOKUP(#REF!&"-"&ROW()-92,[1]ワークシート!$C$2:$CI$1002,15,0),VLOOKUP(#REF!&"-"&ROW()-92, [1]ワークシート!$C$2:$CI$1002,14,0) & "㎡の 内" & VLOOKUP(#REF!&"-"&ROW()-92,[1]ワークシート!$C$2:$CI$1002,15,0)&"㎡")),"") | J90: =+IFERROR(IF(VLOOKUP(#REF!&"-"&ROW()-92,[1]ワークシート!$C$2:$CI$1002,20,0)="","",VLOOKUP(#REF!&"-"&ROW()-92,[1]ワークシート!$C$2:$CI$1002,20,0)),"") | M90: =+IFERROR(IF(VLOOKUP(#REF!&"-"&ROW()-92,[1]ワークシート!$C$2:$CI$1002,61,0)="","",VLOOKUP(#REF!&"-"&ROW()-92,[1]ワークシート!$C$2:$CI$1002,61,0)),"") | P90: =+IFERROR(VLOOKUP(#REF!&"-"&ROW()-92,[1]ワークシート!$C$2:$CI$1002,26,0),"") | R90: =+IFERROR(VLOOKUP(#REF!&"-"&ROW()-92,[1]ワークシート!$C$2:$CI$1002,27,0),"") | T90: =IFERROR(IF(VLOOKUP(#REF!&"-"&ROW()-92,[1]ワークシート!$C$2:$CI$1002,31,0)="",IF(X90="","",IF(X90=0,"使用貸借権","賃借権")),"賃借権"),"") | V90: =+IFERROR(IF(VLOOKUP(#REF!&"-"&ROW()-92,[1]ワークシート!$C$2:$CI$1002,13,0)="","",VLOOKUP(#REF!&"-"&ROW()-92,[1]ワークシート!$C$2:$CI$1002,13,0)),"") | X90: =+IFERROR(IF(VLOOKUP(#REF!&"-"&ROW()-92,[1]ワークシート!$C$2:$CI$1002,31,0)="",VLOOKUP(#REF!&"-"&ROW()-92,[1]ワークシート!$C$2:$CI$1002,33,0),IF(VLOOKUP(#REF!&"-"&ROW()-92,[1]ワークシート!$C$2:$CI$1002,31,0)="物納（米）",VLOOKUP(#REF!&"-"&ROW()-92,[1]ワークシート!$C$2:$CI$1002,35,0)&"kg",IF(VLOOKUP(#REF!&"-"&ROW()-92,[1]ワークシート!$C$2:$CI$1002,31,0)="物納（現金）",VLOOKUP(#REF!&"-"&ROW()-92,[1]ワークシート!$C$2:$CI$1002,36,0)&"円",""))),"") | AB90: =IF(T90="使用貸借権","-",+IFERROR(VLOOKUP(#REF!&"-"&ROW()-92,[1]ワークシート!$C$2:$CI$1002,34,0)&"","")) | AE90: =IF(T90="","",IF(VLOOKUP(#REF!&"-"&ROW()-92,[1]ワークシート!$C$2:$CI$1002,31,0)="",IF(T90="使用貸借権","-","口座振込 １２月"),"物納")) | AG90: =IFERROR(IF(VLOOKUP(#REF!&"-"&ROW()-92,[1]ワークシート!$C$2:$CI$1002,37,0)="","",VLOOKUP(#REF!&"-"&ROW()-92,[1]ワークシート!$C$2:$CI$1002,37,0)),"")
... A378: =+IFERROR(IF(VLOOKUP(#REF!&"-"&ROW()-92,[1]ワークシート!$C$2:$CI$1002,9,0)="","",VLOOKUP(#REF!&"-"&ROW()-92,[1]ワークシート!$C$2:$CI$1002,9,0)),"") | C378: =+IFERROR(IF(VLOOKUP(#REF!&"-"&ROW()-92,[1]ワークシート!$C$2:$CI$1002,10,0) = "","",VLOOKUP(#REF!&"-"&ROW()-92,[1]ワークシート!$C$2:$CI$1002,10,0)),"") | E378: =+IFERROR(IF(VLOOKUP(#REF!&"-"&ROW()-92,[1]ワークシート!$C$2:$CI$1002,11,0)="","",VLOOKUP(#REF!&"-"&ROW()-92,[1]ワークシート!$C$2:$CI$1002,11,0)),"") | G378: =+IFERROR(IF(VLOOKUP(#REF!&"-"&ROW()-92,[1]ワークシート!$C$2:$CI$1002,12,0)="","",VLOOKUP(#REF!&"-"&ROW()-92,[1]ワークシート!$C$2:$CI$1002,12,0)),"") | H378: =IFERROR(IF(VLOOKUP(#REF!&"-"&ROW()-92,[1]ワークシート!$C$2:$CI$1002,15,0)="","",IF(VLOOKUP(#REF!&"-"&ROW()-92,[1]ワークシート!$C$2:$CI$1002,15,0)= VLOOKUP(#REF!&"-"&ROW()-92,[1]ワークシート!$C$2:$CI$1002,14,0),VLOOKUP(#REF!&"-"&ROW()-92,[1]ワークシート!$C$2:$CI$1002,15,0),VLOOKUP(#REF!&"-"&ROW()-92, [1]ワークシート!$C$2:$CI$1002,14,0) & "㎡の 内" & VLOOKUP(#REF!&"-"&ROW()-92,[1]ワークシート!$C$2:$CI$1002,15,0)&"㎡")),"") | J378: =+IFERROR(IF(VLOOKUP(#REF!&"-"&ROW()-92,[1]ワークシート!$C$2:$CI$1002,20,0)="","",VLOOKUP(#REF!&"-"&ROW()-92,[1]ワークシート!$C$2:$CI$1002,20,0)),"") | M378: =+IFERROR(IF(VLOOKUP(#REF!&"-"&ROW()-92,[1]ワークシート!$C$2:$CI$1002,61,0)="","",VLOOKUP(#REF!&"-"&ROW()-92,[1]ワークシート!$C$2:$CI$1002,61,0)),"") | P378: =+IFERROR(VLOOKUP(#REF!&"-"&ROW()-92,[1]ワークシート!$C$2:$CI$1002,26,0),"") | R378: =+IFERROR(VLOOKUP(#REF!&"-"&ROW()-92,[1]ワークシート!$C$2:$CI$1002,27,0),"") | T378: =IFERROR(IF(VLOOKUP(#REF!&"-"&ROW()-92,[1]ワークシート!$C$2:$CI$1002,31,0)="",IF(X378="","",IF(X378=0,"使用貸借権","賃借権")),"賃借権"),"") | V378: =+IFERROR(IF(VLOOKUP(#REF!&"-"&ROW()-92,[1]ワークシート!$C$2:$CI$1002,13,0)="","",VLOOKUP(#REF!&"-"&ROW()-92,[1]ワークシート!$C$2:$CI$1002,13,0)),"") | X378: =+IFERROR(IF(VLOOKUP(#REF!&"-"&ROW()-92,[1]ワークシート!$C$2:$CI$1002,31,0)="",VLOOKUP(#REF!&"-"&ROW()-92,[1]ワークシート!$C$2:$CI$1002,33,0),IF(VLOOKUP(#REF!&"-"&ROW()-92,[1]ワークシート!$C$2:$CI$1002,31,0)="物納（米）",VLOOKUP(#REF!&"-"&ROW()-92,[1]ワークシート!$C$2:$CI$1002,35,0)&"kg",IF(VLOOKUP(#REF!&"-"&ROW()-92,[1]ワークシート!$C$2:$CI$1002,31,0)="物納（現金）",VLOOKUP(#REF!&"-"&ROW()-92,[1]ワークシート!$C$2:$CI$1002,36,0)&"円",""))),"") | AB378: =IF(T378="使用貸借権","-",+IFERROR(VLOOKUP(#REF!&"-"&ROW()-92,[1]ワークシート!$C$2:$CI$1002,34,0)&"","")) | AE378: =IF(T378="","",IF(VLOOKUP(#REF!&"-"&ROW()-92,[1]ワークシート!$C$2:$CI$1002,31,0)="",IF(T378="使用貸借権","-","口座振込 １２月"),"物納")) | AG378: =IFERROR(IF(VLOOKUP(#REF!&"-"&ROW()-92,[1]ワークシート!$C$2:$CI$1002,37,0)="","",VLOOKUP(#REF!&"-"&ROW()-92,[1]ワークシート!$C$2:$CI$1002,37,0)),"")
